BEGIN:VCALENDAR
VERSION:2.0
PRODID:-//RelNet Technológia Kft. - ECPv5.16.4//NONSGML v1.0//EN
CALSCALE:GREGORIAN
METHOD:PUBLISH
XXXXXXXXXXXXXXXXXXXXXXXXXXXXXXXXXXXXXX
XXXXXXXXXXXXXXXXXXXXXXXXXXXXXXXXX
XXXXXXXXXXXXXXXXXXXXXXXXXXXXXXXXXXXXXXXXXXXXXXXXX
BEGIN:VTIMEZONE
TZID:Europe/Budapest
BEGIN:DAYLIGHT
TZOFFSETFROM:+0100
TZOFFSETTO:+0200
TZNAME:CEST
DTSTART:20240331T010000
END:DAYLIGHT
BEGIN:STANDARD
TZOFFSETFROM:+0200
TZOFFSETTO:+0100
TZNAME:CET
DTSTART:20241027T010000
END:STANDARD
END:VTIMEZONE
BEGIN:VEVENT
DTSTART;TZID=Europe/Budapest:20240111T110000
DTEND;TZID=Europe/Budapest:20240111T120000
DTSTAMP:20260420T020843
CREATED:20231201T081301Z
LAST-MODIFIED:20231201T081301Z
UID:32253-1704970800-1704974400@relnet.hu
SUMMARY:Folyamatos fenyegetéskezelés (CTEM) a Skybox segítségével
DESCRIPTION:Csatlakozzon a webináriumhoz\, ahol a Gartner által nemrégiben definiált folyamatos fenyegetéskezelés (Continuous Threat Exposure Management) koncepcióját vizsgálják meg a Skybox Security szakértői. \n  \nREGISZTRÁCIÓ\n\n  \nIdőpont: 2024. január 11. (csütörtök)\, 11:00 \nA CTEM egy stratégiai módszertan\, amely a Gartner becslései szerint jelentős mértékben csökkentheti a szervezetek kiberkockázatát. \nTémák: \n\nMiért érdemes egy szervezetnek alkalmaznia a CTEM-et a fenyegetések hatékony kezelése és mérséklése érdekében\nA CTEM-et alkotó alapvető folyamatok\, a módszer működése\nA Skybox platform egyedülálló CTEM képességei: automatizáció\, kockázatok azaonosítása és csökkentése\n\nEz a webinárium bemutatja a Skybox megközelítését a folyamatos fenyegetettség-kezelés (CTEM) terén\, értékes betekintést nyújtva a valós alkalmazásba. \nElőadó: Peter Hughes – Műszaki Igazgató / Skybox Security
URL:https://relnet.hu/rendezveny/folyamatos-fenyegeteskezeles-ctem-a-skybox-segitsegevel/
LOCATION:Virtuális rendezvény
CATEGORIES:Skybox Security
ATTACH;FMTTYPE=image/jpeg:https://relnet.hu/wp-content/uploads/2023/12/SkyboxCTEMWebinar-min.jpg
END:VEVENT
END:VCALENDAR