BEGIN:VCALENDAR
VERSION:2.0
PRODID:-//RelNet Technológia Kft. - ECPv5.16.4//NONSGML v1.0//EN
CALSCALE:GREGORIAN
METHOD:PUBLISH
XXXXXXXXXXXXXXXXXXXXXXXXXXXXXXXXXXXXXX
XXXXXXXXXXXXXXXXXXXXXXXXXXXXXXXXX
XXXXXXXXXXXXXXXXXXXXXXXXXXXXXXXXXXXXXXXXXXXXXXXXX
BEGIN:VTIMEZONE
TZID:Europe/Budapest
BEGIN:DAYLIGHT
TZOFFSETFROM:+0100
TZOFFSETTO:+0200
TZNAME:CEST
DTSTART:20190331T010000
END:DAYLIGHT
BEGIN:STANDARD
TZOFFSETFROM:+0200
TZOFFSETTO:+0100
TZNAME:CET
DTSTART:20191027T010000
END:STANDARD
END:VTIMEZONE
BEGIN:VEVENT
DTSTART;VALUE=DATE:20190313
DTEND;VALUE=DATE:20190314
DTSTAMP:20260420T005333
CREATED:20190124T151209Z
LAST-MODIFIED:20190311T145426Z
UID:1308-1552435200-1552521599@relnet.hu
SUMMARY:FortiManager Üzemeltetési ismeretek
DESCRIPTION:2019. március 13-án kerül megrendezésre a Fortinet FortiManager egynapos üzemeltetési ismeretek – elméleti\, gyakorlati és laborfeladatokat is tartalmazó – oktatása. \nAz oktatásokon való részvételhez szükséges előfeltételek: \n• Hálózati alapismeretek \n• OSI referencia modell ismerete \n• TCP/IP protokoll család ismerete \n• FortiGate Üzemeltetési alapismeretek \nA FortiManager üzemeltetési ismeretek oktatás résztvevői elsajátíthatják a következőket: \n• FortiManager termékismeret \n• Termékek alapvető konfigurálása\, üzembe helyezése \n• Eszközök regisztrációja \n• Naplózás konfigurálása \n• Jelentések készítése  \n• Eszközök kezelése\, konfigurálása FortiManager segítségével. \nA FortiManager Üzemeltetési ismeretek tematikája: \n• FortiManager termékismertető \n• Termékek alapvető konfigurálására\, üzembe helyezésére \n• A menedzselt eszközök regisztrációja és konfigurálása \n• Központi szabályrendszer létrehozása és kezelése \n• FortiManager egyéb központosított menedzsment felületeinek bemutatása \n• Kezelőpanelek \n• Diagnosztika és hibaelhárítás \n• Haladó konfiguráció \nA férőhelyek száma korlátozott\, a regisztrációt a jelentkezés sorrendjében tudjuk elfogadni! \nAz előadások magyar nyelvűek. Az oktatás mindkét napon 9:00-től 17:00-ig tart. \nIdőpont: 2019. március 13.Helyszín: Az oktatás helyszíne a RelNet oktatóterme. Cím: 1047 Budapest\, Váci út 71. – Az épület és az udvar bejárata is a Perényi Zsigmond utcáról nyílik. Parkolás: Díjmentes a belső udvaron és a környező utcákban is.Részvételi díj: nettó 149.900 Ft/fő/nap +ÁFA\n \nTöbb jelentkező vagy több tréningen való részvételi szándék esetén kérje egyedi ajánlatunkat! \nKapcsolódó oktatások:  \n2019. február 27. FortiGate: Üzemeltetési alapismeretek ismeretek I. 2019. február 28. FortiGate: Üzemeltetési alapismeretek ismeretek II. 2019. március 1. FortiClient és EMS 2019. március 11. FortiGate Infrastructure: Haladó Üzemeltetési ismeretek I. 2019. március 12. FortiGate Infrastructure: Haladó Üzemeltetési ismeretek II.2019. március 14. FortiAnalyzer \nVegyen részt a teljes Fortinet sorozaton és kérje kedvező csomagárunkat! \nTovábbi oktatásaink: 2019. február 6-7. Extreme Networks – Extreme Wireless WiNG 2019. március 4-8. Juniper Networks \nAz Ön igényeire szabott oktatásra van szüksége? Kérje ajánlatunkat! \n \n  \n 
URL:https://relnet.hu/rendezveny/fortimanager-uzemeltetesi-ismeretek/
LOCATION:RelNet konferencia terem\, Váci út 71.\, Budapest\, 1047\, Magyarország
CATEGORIES:FortiManager,Fortinet,Gyártó,Végfelhasználó,Viszonteladó
ATTACH;FMTTYPE=image/png:https://relnet.hu/wp-content/uploads/2019/01/FortiManager.png
ORGANIZER;CN="RelNet%20Technol%C3%B3gia%20Kft.":MAILTO:marketing@relnet.hu
GEO:47.572774139773;19.081058942328
X-APPLE-STRUCTURED-LOCATION;VALUE=URI;X-ADDRESS=RelNet konferencia terem Váci út 71. Budapest 1047 Magyarország;X-APPLE-RADIUS=500;X-TITLE=Váci út 71.:geo:19.081058942328,47.572774139773
END:VEVENT
END:VCALENDAR