BEGIN:VCALENDAR
VERSION:2.0
PRODID:-//RelNet Technológia Kft. - ECPv5.16.4//NONSGML v1.0//EN
CALSCALE:GREGORIAN
METHOD:PUBLISH
XXXXXXXXXXXXXXXXXXXXXXXXXXXXXXXXXXXXXX
XXXXXXXXXXXXXXXXXXXXXXXXXXXXXXXXX
XXXXXXXXXXXXXXXXXXXXXXXXXXXXXXXXXXXXXXXXXXXXXXXXX
BEGIN:VTIMEZONE
TZID:Europe/Budapest
BEGIN:DAYLIGHT
TZOFFSETFROM:+0100
TZOFFSETTO:+0200
TZNAME:CEST
DTSTART:20190331T010000
END:DAYLIGHT
BEGIN:STANDARD
TZOFFSETFROM:+0200
TZOFFSETTO:+0100
TZNAME:CET
DTSTART:20191027T010000
END:STANDARD
END:VTIMEZONE
BEGIN:VEVENT
DTSTART;VALUE=DATE:20190312
DTEND;VALUE=DATE:20190313
DTSTAMP:20260420T022038
CREATED:20190124T151120Z
LAST-MODIFIED:20190311T145706Z
UID:1303-1552348800-1552435199@relnet.hu
SUMMARY:Fortinet FortiGate Infrastructure: Haladó üzemeltetési ismeretek II. oktatás
DESCRIPTION:2019. március 11-én és 12-én kerül megrendezésre a Fortinet FortiGate kétszer egynapos haladó üzemeltetési oktatás elméleti\, gyakorlati és laborfeladatokat is tartalmazó részekkel. \nAz oktatásokon való részvételhez szükséges előfeltételek: \n• Hálózati alapismeretek \n• OSI referencia modell ismerete \n• TCP/IP protokoll család ismerete \n• Fortigate Üzemeltetési ismeretek \nA FortiGate haladó üzemeltetési ismeretek oktatás résztvevői képesek lesznek: \n• UTM (Antivírus\,Webfilter\,IPS\,AppControll) funkciók ismerete\, használata \n• Routing (Static\,Dinamic\,Policy route) \n• SDWAN \n• Transparent-mode működése használata \n• HA üzemmódok \n• VPN kapcsolatok kialakítása\, konfigurálása \n• VDOM fogalma\, alkalmazása \n• WebProxy \n2019. március 12.\nA haladó üzemeltetési ismeretek oktatás II. tematikája: \n\nTransparent mode\nFSSO\nHA\n\nEbédszünet \n\nAdvanced IPsecVPN\nIPS\nApplication Controll\n\nA férőhelyek száma korlátozott\, a regisztrációt a jelentkezés sorrendjében tudjuk elfogadni!  \nAz előadások magyar nyelvűek. Az oktatás 9:00-től 17:00-ig tart. \nIdőpont: 2019. március 12.Helyszín: Az oktatás helyszíne a RelNet oktatóterme. Cím: 1047 Budapest\, Váci út 71. – Az épület és az udvar bejárata is a Perényi Zsigmond utcáról nyílik. Parkolás: Díjmentes a belső udvaron és a környező utcákban is.Részvételi díj: nettó 149.900 Ft/fő/nap +ÁFA\n Több jelentkező vagy több tréningen való részvételi szándék esetén kérje egyedi ajánlatunkat!  Kapcsolódó oktatások: 2019. február 27.  FortiGate: Üzemeltetési alapismeretek ismeretek I. 2019. február 28.  FortiGate: Üzemeltetési alapismeretek ismeretek II.2019. március 1.    FortiClient és EMS 2019. március 11.  FortiGate Infrastructure: Haladó üzemeltetési ismeretek I. 2019. március 13. FortiManager 2019. március 14. FortiAnalyzer \nVegyen részt a teljes Fortinet sorozaton és kérje kedvező csomagárunkat! \nTovábbi oktatásaink: 2019. február 6-7. Extreme Networks – Extreme Wireless WiNG 2019. március 4-8. Juniper Networks oktatás \nAz Ön igényeire szabott oktatásra van szüksége? Kérje ajánlatunkat! \n \n 
URL:https://relnet.hu/rendezveny/fortinet-fortigate-infrastructure-halado-uzemeltetesi-ismeretek-ii-oktatas/
LOCATION:RelNet konferencia terem\, Váci út 71.\, Budapest\, 1047\, Magyarország
CATEGORIES:FortiGate,Fortinet,Gyártó,Oktatás,Végfelhasználó,Viszonteladó
ATTACH;FMTTYPE=image/png:https://relnet.hu/wp-content/uploads/2019/01/FortiGate-Infrastructure.png
ORGANIZER;CN="RelNet%20Technol%C3%B3gia%20Kft.":MAILTO:marketing@relnet.hu
GEO:47.572774139773;19.081058942328
X-APPLE-STRUCTURED-LOCATION;VALUE=URI;X-ADDRESS=RelNet konferencia terem Váci út 71. Budapest 1047 Magyarország;X-APPLE-RADIUS=500;X-TITLE=Váci út 71.:geo:19.081058942328,47.572774139773
END:VEVENT
END:VCALENDAR