BEGIN:VCALENDAR
VERSION:2.0
PRODID:-//RelNet Technológia Kft. - ECPv5.16.4//NONSGML v1.0//EN
CALSCALE:GREGORIAN
METHOD:PUBLISH
XXXXXXXXXXXXXXXXXXXXXXXXXXXXXXXXXXXXXX
XXXXXXXXXXXXXXXXXXXXXXXXXXXXXXXXX
XXXXXXXXXXXXXXXXXXXXXXXXXXXXXXXXXXXXXXXXXXXXXXXXX
BEGIN:VTIMEZONE
TZID:Europe/Budapest
BEGIN:DAYLIGHT
TZOFFSETFROM:+0100
TZOFFSETTO:+0200
TZNAME:CEST
DTSTART:20190331T010000
END:DAYLIGHT
BEGIN:STANDARD
TZOFFSETFROM:+0200
TZOFFSETTO:+0100
TZNAME:CET
DTSTART:20191027T010000
END:STANDARD
END:VTIMEZONE
BEGIN:VEVENT
DTSTART;VALUE=DATE:20190521
DTEND;VALUE=DATE:20190524
DTSTAMP:20260420T045352
CREATED:20190429T112840Z
LAST-MODIFIED:20190429T133029Z
UID:2183-1558396800-1558655999@relnet.hu
SUMMARY:Fortinet FortiWeb Üzemeltetési oktatás
DESCRIPTION:2019. május 21-23. között kerül megrendezésre a Fortinet FortiWeb üzemeltetői oktatás\, elméleti ismeretek elsajátítása mellett laborgyakorlatokat is tartalmazó részekkel. \nAz oktatásokon való részvételhez szükséges előfeltételek: \n\nhálózati alapismeretek\nHTML\, JavaScript\, PHP alapszintű ismerete\nTűzfaltechnológia alapszintű ismerete\n\n  \nA FortiWeb Üzemeltetési ismeretek oktatás résztvevői képesek lesznek: \n\nFortiWeb termékportfólió ismerete\nFortiWeb pozícionálása a hálózati topológiában\nFortiAnalyzer intergáció távoli naplózáshoz\nFortiGate integráció\, SNAT beállítások\nFortiWeb üzembe helyezése\, és konfigurációja\nApplikációs rétegben történő támadások ismerete\nDefacement és DoS támadások elleni védelem\nOWASP Top 10 támadások elleni védelem\nZero-day támadások elleni védelem\nSSL/TLS\, azonosítás\, és hozzáférés szabályozás webalkalmazások számára\nTerheléselosztás webszerverek között\nA FortiWeb gépi tanulási algoritmusainak használata\nFals pozitív találatok felismerése\, kezelése\nHibakeresés\, hibakezelés\n\n  \nA FortiWeb Üzemeltetési ismeretek tematika: \n\nBevezetés\nAlapbeállítások\nNaplózási beállítások\nFortiGate integráció\, SNAT beállítások\nLeggyakoribb támadások elleni védekezés\nDefacement és DoS elleni védekezés\nSzignatúrák és automatikus tanulás\nThreat scoring\nSSL/TLS\nAzonosítás\, és hozzáférés szabályozás\nPCI DSS 3.0 megfelelés\nRewriting és redirect\nGépi tanulási algoritmusok\nFals pozitív találatok felismerése\, kezelése\nHibakeresés\, hibakezelés\n\n  \nA férőhelyek száma korlátozott\, a regisztrációt a jelentkezés sorrendjében tudjuk elfogadni! \nAz előadások magyar nyelvűek. Az oktatás minden nap 9:00-től 17:00-ig tart. \nHelyszín: Az oktatás helyszíne a RelNet oktatóterme (1047. Budapest Váci út 7.) Az épület és az udvar bejárata is a Perényi Zsigmond utcáról nyílik. \nParkolás: díjmentes a RelNet belső udvarán és a környező utcákban is. \nRészvételi díj: nettó 399.900 Ft/fő/oktatás +ÁFA\n\nTöbb jelentkező vagy több tréningen való részvételi szándék esetén kérje egyedi ajánlatunk! \n\nhttps://relnet.hu/wp-content/uploads/2019/04/Fortinet-Web-Application-Security.mp4\n  \nFortiWebről további információ:https://www.fortinet.com/products/web-application-firewall/fortiweb.html#models-specs \nGartner 2018 Magic Quadrant for WAF:https://www.fortinet.com/demand/gated/gartner-magic-quadrant-waf.html \nKapcsolódó események:2019. május 15. FortiWeb AI használata a webalkalmazások veszélyeinek észlelésére \n2019. június 19.  Az automatizálás egyszerűbbé tétele a Web Services API-k segítségével \nAz Ön igényeire szabott oktatásra van szüksége? Kérje egyedi ajánlatunk!
URL:https://relnet.hu/rendezveny/fortinet-fortiweb-uzemeltetesi-oktatas/
LOCATION:RelNet konferencia terem\, Váci út 71.\, Budapest\, 1047\, Magyarország
CATEGORIES:Fortinet,FortiWeb,Oktatás,Végfelhasználó,Viszonteladó
ATTACH;FMTTYPE=image/png:https://relnet.hu/wp-content/uploads/2019/04/FortiWeb.png
GEO:47.572774139773;19.081058942328
X-APPLE-STRUCTURED-LOCATION;VALUE=URI;X-ADDRESS=RelNet konferencia terem Váci út 71. Budapest 1047 Magyarország;X-APPLE-RADIUS=500;X-TITLE=Váci út 71.:geo:19.081058942328,47.572774139773
END:VEVENT
END:VCALENDAR