BEGIN:VCALENDAR
VERSION:2.0
PRODID:-//RelNet Technológia Kft. - ECPv5.16.4//NONSGML v1.0//EN
CALSCALE:GREGORIAN
METHOD:PUBLISH
XXXXXXXXXXXXXXXXXXXXXXXXXXXXXXXXXXXXXX
XXXXXXXXXXXXXXXXXXXXXXXXXXXXXXXXX
XXXXXXXXXXXXXXXXXXXXXXXXXXXXXXXXXXXXXXXXXXXXXXXXX
BEGIN:VTIMEZONE
TZID:Europe/Budapest
BEGIN:DAYLIGHT
TZOFFSETFROM:+0100
TZOFFSETTO:+0200
TZNAME:CEST
DTSTART:20260329T010000
END:DAYLIGHT
BEGIN:STANDARD
TZOFFSETFROM:+0200
TZOFFSETTO:+0100
TZNAME:CET
DTSTART:20261025T010000
END:STANDARD
END:VTIMEZONE
BEGIN:VEVENT
DTSTART;TZID=Europe/Budapest:20260316T100000
DTEND;TZID=Europe/Budapest:20260316T110000
DTSTAMP:20260419T220234
CREATED:20260305T083127Z
LAST-MODIFIED:20260305T083127Z
UID:41493-1773655200-1773658800@relnet.hu
SUMMARY:Garland Technology: Partner Update Webinárium
DESCRIPTION:Csatlakozzon a Garland Technology 2026-os évnyitó partneri tájékoztatójához! A gyártó szakértői értékes információkat osztanak meg: friss piaci betekintés\, új felhasználási esetek\, valamint értékesítési tanácsok és termékfrissítések. \nREGISZTRÁCIÓ\n\n  \nIdőpont: 2026. március 16. (hétfő) | 10:00–10:45 \nA webinárium során megismerhet a Garland partneri növekedést támogató kezdeményezéseit\, a kiemelt sikertörténeteket\, és bemutatásra kerül egy különleges technológiai szövetséges partner is. \nÉrtékesítési fókusz (30 perc) \n\nMarketing Update: Friss anyagok és kampányok a hatékonyabb ügyfélmegszólításhoz.\nWin Wires: Tanulságos esettanulmányok és győztes értékesítési stratégiák.\nKiemelt technológiai partner: Bemutatkozik egyik kulcsfontosságú gyártó.\n\nTechnikai fókusz (15 perc) \n\nTermékfrissítések: A Garland Technology legújabb fejlesztései és roadmap újdonságok.
URL:https://relnet.hu/rendezveny/garland-technology-partner-update-webinarium/
LOCATION:Virtuális rendezvény
CATEGORIES:Garland Technology,Webinárium
ATTACH;FMTTYPE=image/jpeg:https://relnet.hu/wp-content/uploads/2026/03/garland-partner-webinar-min.jpg
END:VEVENT
END:VCALENDAR