BEGIN:VCALENDAR
VERSION:2.0
PRODID:-//RelNet Technológia Kft. - ECPv5.16.4//NONSGML v1.0//EN
CALSCALE:GREGORIAN
METHOD:PUBLISH
XXXXXXXXXXXXXXXXXXXXXXXXXXXXXXXXXXXXXX
XXXXXXXXXXXXXXXXXXXXXXXXXXXXXXXXX
XXXXXXXXXXXXXXXXXXXXXXXXXXXXXXXXXXXXXXXXXXXXXXXXX
BEGIN:VTIMEZONE
TZID:Europe/Budapest
BEGIN:DAYLIGHT
TZOFFSETFROM:+0100
TZOFFSETTO:+0200
TZNAME:CEST
DTSTART:20250330T010000
END:DAYLIGHT
BEGIN:STANDARD
TZOFFSETFROM:+0200
TZOFFSETTO:+0100
TZNAME:CET
DTSTART:20251026T010000
END:STANDARD
END:VTIMEZONE
BEGIN:VEVENT
DTSTART;TZID=Europe/Budapest:20250129T150000
DTEND;TZID=Europe/Budapest:20250129T220000
DTSTAMP:20260420T021830
CREATED:20250109T124158Z
LAST-MODIFIED:20250110T075434Z
UID:36347-1738162800-1738188000@relnet.hu
SUMMARY:Garland üzleti vacsora
DESCRIPTION:A RelNet Kft. és a Garland Technology több mint 5 éve tartó szoros együttműködésének 2025-ös első állomásaként ellátogat hozzánk Ross Green\, a Garland EMEA régióért felelős értékesítési igazgatója\, és egy kötetlen hangvételű beszélgetésre invitálja a hazai piac érdeklődő szereplőit. \nIdőpont: 2025. január 29. (szerda) | 15:00-22:00 \nHelyszín: Rudas Bistro (1013 Budapest\, Döbrentei tér 9. – a Rudas Gyógyfürdő épületében) \nA Garland Technology piacvezető TAP és packet broker megoldásai a modern IT-infrastruktúrák és hálózati rendszerek számára biztosítanak teljes átláthatóságot\, biztonságot és teljesítőképességet\, ami megbízható és precíz adatforgalom-megfigyelést és -kezelést tesz lehetővé\, mégpedig a következő módokon: \n\nNem-intruzív adatgyűjtéssel\, amely nem befolyásolja a hálózati működést\nMegnövelt megbízhatósággal és pontossággal a teljes adatforgalom valós idejű megfigyeléséhez\nKompatibilitással a különböző sebességekhez (általában 1G-től 100G-ig)\nSzűrők és aggregálási szabályok alkalmazásával az adatok optimalizálásához\nA hatékonyság növelésével azáltal\, hogy a különböző eszközök csak a releváns adatokat továbbítják\nSegítik a hálózati hibakeresést\, teljesítőképesség-elemzést és a kiberbiztonsági fenyegetések felismerését\n\nA délután és a vacsora során partnereink és ügyfeleink közelebbről megismerkedhetnek a Garland Technology megoldásaival\, növelhetik a termékismeretüket\, és felvértezhetik magukat olyan képességekkel\, amelyek segítenek a technikai igények és az üzleti lehetőségek pontosabb azonosításában. \nAgenda:  \n15.00 Érkezés és regisztráció \n15.30 A Garland bemutatása és üzleti lehetőségek felismerése \n17.00 Kávészünet\, kötetlen beszélgetés\, kapcsolatépítés \n17.45 Biztonsági megoldások tervezése is kivitelezése a Garland segítségével \n19.30 Vacsora\, majd kötetlen beszélgetés \nRegisztráljon most! \nA résztvevőknek 25 pontot írunk jóvá az eLearning rendszerünkben!
URL:https://relnet.hu/rendezveny/garland-uzleti-vacsora/
LOCATION:Rudas Bistro\, Döbrentei Tér 9.\, Budapest\, 1013\, Magyarország
CATEGORIES:Garland Technology,Végfelhasználó,Viszonteladó
ATTACH;FMTTYPE=image/jpeg:https://relnet.hu/wp-content/uploads/2025/01/GarlandUzletiVacsora-min.jpg
END:VEVENT
END:VCALENDAR