BEGIN:VCALENDAR
VERSION:2.0
PRODID:-//RelNet Technológia Kft. - ECPv5.16.4//NONSGML v1.0//EN
CALSCALE:GREGORIAN
METHOD:PUBLISH
XXXXXXXXXXXXXXXXXXXXXXXXXXXXXXXXXXXXXX
XXXXXXXXXXXXXXXXXXXXXXXXXXXXXXXXX
XXXXXXXXXXXXXXXXXXXXXXXXXXXXXXXXXXXXXXXXXXXXXXXXX
BEGIN:VTIMEZONE
TZID:Europe/Budapest
BEGIN:DAYLIGHT
TZOFFSETFROM:+0100
TZOFFSETTO:+0200
TZNAME:CEST
DTSTART:20240331T010000
END:DAYLIGHT
BEGIN:STANDARD
TZOFFSETFROM:+0200
TZOFFSETTO:+0100
TZNAME:CET
DTSTART:20241027T010000
END:STANDARD
END:VTIMEZONE
BEGIN:VEVENT
DTSTART;TZID=Europe/Budapest:20240222T180000
DTEND;TZID=Europe/Budapest:20240222T190000
DTSTAMP:20260420T021948
CREATED:20240213T095212Z
LAST-MODIFIED:20240213T095408Z
UID:32911-1708624800-1708628400@relnet.hu
SUMMARY:Garland webinárium – A titkosítási paradoxon
DESCRIPTION:Csatlakozzon a Garland Technology\, az Axellio és a Mira Security online kerekasztal-beszélgetéséhez\, amelyen a szakértők az adatforgalom titkosítása és a fokozott biztonsági monitoring között fennálló látszólagos ellentmondást vitatják meg. \nREGISZTRÁCIÓ\n\nVajon a végponttól végpontig terjedő titkosítás erősítésével korlátozzuk a kiberbiztonsági felügyeletet? Csatlakozzon a titkosítási paradoxonról szóló webináriumhoz! Az adattitkosítás elengedhetetlen a létfontosságú információk védelméhez\, de látszólag korlátozza a vállalati szintű hálózatok láthatóságát. \nTémák: \n\nMiért elengedhetetlen a biztonsági felügyelethez a hálózati forgalom titkosításának feloldása?\nMiben különbözik a TLS 1.3 titkosítás a korábbi verzióktól?\nHogyan változik a vállalatok hozzáállása a titkosítás feloldásához?\nA titkosítási iparág jövője\n\nIdőpont: 2024. február 22. (csütörtök) | 18:00 \nREGISZTRÁCIÓ
URL:https://relnet.hu/rendezveny/garland-webinarium-a-titkositasi-paradoxon/
LOCATION:Virtuális rendezvény
CATEGORIES:Garland Technology,Webinárium
ATTACH;FMTTYPE=image/jpeg:https://relnet.hu/wp-content/uploads/2024/02/GarlandTitkositasiParadoxon-min.jpg
END:VEVENT
END:VCALENDAR