BEGIN:VCALENDAR
VERSION:2.0
PRODID:-//RelNet Technológia Kft. - ECPv5.16.4//NONSGML v1.0//EN
CALSCALE:GREGORIAN
METHOD:PUBLISH
XXXXXXXXXXXXXXXXXXXXXXXXXXXXXXXXXXXXXX
XXXXXXXXXXXXXXXXXXXXXXXXXXXXXXXXX
XXXXXXXXXXXXXXXXXXXXXXXXXXXXXXXXXXXXXXXXXXXXXXXXX
BEGIN:VTIMEZONE
TZID:Europe/Budapest
BEGIN:DAYLIGHT
TZOFFSETFROM:+0100
TZOFFSETTO:+0200
TZNAME:CEST
DTSTART:20200329T010000
END:DAYLIGHT
BEGIN:STANDARD
TZOFFSETFROM:+0200
TZOFFSETTO:+0100
TZNAME:CET
DTSTART:20201025T010000
END:STANDARD
END:VTIMEZONE
BEGIN:VEVENT
DTSTART;TZID=Europe/Budapest:20200917T170000
DTEND;TZID=Europe/Budapest:20200917T173000
DTSTAMP:20260419T220330
CREATED:20200914T135236Z
LAST-MODIFIED:20200914T141619Z
UID:8222-1600362000-1600363800@relnet.hu
SUMMARY:Garland webinárium: Tapping in a Virtual World
DESCRIPTION:Reagálva az ügyfelek megnövekedett érdeklődésére a virtuális TAP megoldások Azure\, AWS és privát felhős környezetbe történő telepítése iránt\, a közelgő webináriumunkon megmutatjuk\, milyen egyszerű lehet a Garland Prism termékek segítségével megteremteni a virtuális környezetben szükséges láthatóságot. \nCsatlakozzon és ismerje meg\, hogy milyen előnyökkel jár ügyfeleink számára a Garland Prism termékek használata virtuális és hibrid hálózatokban egyaránt! \nA termékek ismertetésén túl\, új tréningekkel és képzésekkel kapcsolatos hírek is szóba kerülnek majd. \nJelentkezzen most!\n\n\n \n\nTapping in a Virtual World\nGarland Webinárium\n2020. szeptember 17. 17:00-17:30 CEST \n\n\nREGISZTRÁCIÓ\n\n 
URL:https://relnet.hu/rendezveny/garland-webinarium-tapping-in-a-virtual-world/
LOCATION:Virtuális rendezvény
CATEGORIES:Garland Technology
ATTACH;FMTTYPE=image/png:https://relnet.hu/wp-content/uploads/2020/09/Head-1.png
END:VEVENT
END:VCALENDAR