BEGIN:VCALENDAR
VERSION:2.0
PRODID:-//RelNet Technológia Kft. - ECPv5.16.4//NONSGML v1.0//EN
CALSCALE:GREGORIAN
METHOD:PUBLISH
XXXXXXXXXXXXXXXXXXXXXXXXXXXXXXXXXXXXXX
XXXXXXXXXXXXXXXXXXXXXXXXXXXXXXXXX
XXXXXXXXXXXXXXXXXXXXXXXXXXXXXXXXXXXXXXXXXXXXXXXXX
BEGIN:VTIMEZONE
TZID:Europe/Budapest
BEGIN:DAYLIGHT
TZOFFSETFROM:+0100
TZOFFSETTO:+0200
TZNAME:CEST
DTSTART:20240331T010000
END:DAYLIGHT
BEGIN:STANDARD
TZOFFSETFROM:+0200
TZOFFSETTO:+0100
TZNAME:CET
DTSTART:20241027T010000
END:STANDARD
END:VTIMEZONE
BEGIN:VEVENT
DTSTART;TZID=Europe/Budapest:20240321T150000
DTEND;TZID=Europe/Budapest:20240321T160000
DTSTAMP:20260420T033409
CREATED:20240307T153231Z
LAST-MODIFIED:20240311T075509Z
UID:33102-1711033200-1711036800@relnet.hu
SUMMARY:Hibaelhárítás a Progress Flowmonnal – A teljesítményoptimalizálás módszerei
DESCRIPTION:Vegyen részt a Progress Flowmon webináriumán\, amely a teljesítményproblémák elhárításáról fog szólni! Részleteket tudhat meg a Flowmon Monitoring Centerről\, valamint az előadók elmélyednek a teljesítményproblémák kivizsgálására szolgáló fejlett elemzési technikákban is. \n  \nREGISZTRÁCIÓ\n\n  \nIdőpont: 2024. március 21. (csütörtök) | 15:00 \nTovábbi témák: \n\nHogyan lehet különbséget tenni a hálózati és az alkalmazásbeli késések között\, és hogyan szerezhet hasznos információkat az általános hálózati teljesítmény javítása érdekében?\nPavel Minarik\, a Progress technológiai alelnöke valós forgatókönyveket mutat be\, továbbá gyakorlati tippeket és stratégiákat ad a hibaelhárítási folyamat egyszerűsítéséhez és az optimális hálózati és alkalmazásteljesítmény fenntartásához.\nBevezetés a Flowmon Monitoring Centerbe\nHaladó analitikai módszerek\n\n  \nREGISZTRÁCIÓ
URL:https://relnet.hu/rendezveny/hibaelharitas-a-progress-flowmonnal-a-teljesitmenyoptimalizalas-modszerei/
LOCATION:Virtuális rendezvény
CATEGORIES:Flowmon,Progress,Webinárium
ATTACH;FMTTYPE=image/jpeg:https://relnet.hu/wp-content/uploads/2024/03/FlowmonHibaelharitas-min-1.jpg
END:VEVENT
END:VCALENDAR