BEGIN:VCALENDAR
VERSION:2.0
PRODID:-//RelNet Technológia Kft. - ECPv5.16.4//NONSGML v1.0//EN
CALSCALE:GREGORIAN
METHOD:PUBLISH
XXXXXXXXXXXXXXXXXXXXXXXXXXXXXXXXXXXXXX
XXXXXXXXXXXXXXXXXXXXXXXXXXXXXXXXX
XXXXXXXXXXXXXXXXXXXXXXXXXXXXXXXXXXXXXXXXXXXXXXXXX
BEGIN:VTIMEZONE
TZID:Europe/Budapest
BEGIN:DAYLIGHT
TZOFFSETFROM:+0100
TZOFFSETTO:+0200
TZNAME:CEST
DTSTART:20260329T010000
END:DAYLIGHT
BEGIN:STANDARD
TZOFFSETFROM:+0200
TZOFFSETTO:+0100
TZNAME:CET
DTSTART:20261025T010000
END:STANDARD
END:VTIMEZONE
BEGIN:VEVENT
DTSTART;TZID=Europe/Budapest:20260116T110000
DTEND;TZID=Europe/Budapest:20260116T120000
DTSTAMP:20260420T005512
CREATED:20260106T101441Z
LAST-MODIFIED:20260106T101441Z
UID:40829-1768561200-1768564800@relnet.hu
SUMMARY:Hitelesítési megoldások és naplózás a LoadMaster Edge Security Pack csomagban
DESCRIPTION:A Technical Camping nevű szakmai webináriumsorozat új részében a Progress Kemp LoadMaster autentikációs és naplózási moduljairól lesz szó a felhasználási esetek és a bevált gyakorlatok bemutatásával. \nREGISZTRÁCIÓ\n\nIdőpont: 2026. január 16. (péntek) | 11:00-12:00 \nTémák: \n\nLoadMaster ESP OIDC és SAML használatával: Hogyan működik a hitelesítés külső identitásszolgáltatókkal? Ismerje meg\, hogyan állítható be az OIDC és a SAML a LoadMasteren\, és melyek azok a konfigurációs lépések\, amelyeket mindenképpen figyelembe kell venni.\nLogtípusok áttekintése: Melyik támogatási mátrixból használhatók a logfájlok? Áttekintés a különböző naplózási típusokról\, valamint miként lehet célzottan engedélyezni a rögzítésüket.\n\nA webinárium azoknak szól\, akik a LoadMasterrel dolgoznak\, alkalmazásokat üzemeltetnek\, biztosítanak vagy irányítanak\, legyen szó működtetési\, ügyfélszolgálati vagy adminisztrátori csapatokról. \nElőadó: Renard Schoepfel\, Principal Sales Engineer EMEA\, Progress
URL:https://relnet.hu/rendezveny/hitelesitesi-megoldasok-es-naplozas-a-loadmaster-edge-security-pack-csomagban/
LOCATION:Virtuális rendezvény
CATEGORIES:Progress
ATTACH;FMTTYPE=image/jpeg:https://relnet.hu/wp-content/uploads/2026/01/LoadMasterSecurityPack-min.jpg
END:VEVENT
END:VCALENDAR