BEGIN:VCALENDAR
VERSION:2.0
PRODID:-//RelNet Technológia Kft. - ECPv5.16.4//NONSGML v1.0//EN
CALSCALE:GREGORIAN
METHOD:PUBLISH
XXXXXXXXXXXXXXXXXXXXXXXXXXXXXXXXXXXXXX
XXXXXXXXXXXXXXXXXXXXXXXXXXXXXXXXX
XXXXXXXXXXXXXXXXXXXXXXXXXXXXXXXXXXXXXXXXXXXXXXXXX
BEGIN:VTIMEZONE
TZID:Europe/Budapest
BEGIN:DAYLIGHT
TZOFFSETFROM:+0100
TZOFFSETTO:+0200
TZNAME:CEST
DTSTART:20220327T010000
END:DAYLIGHT
BEGIN:STANDARD
TZOFFSETFROM:+0200
TZOFFSETTO:+0100
TZNAME:CET
DTSTART:20221030T010000
END:STANDARD
END:VTIMEZONE
BEGIN:VEVENT
DTSTART;TZID=Europe/Budapest:20220825T170000
DTEND;TZID=Europe/Budapest:20220825T180000
DTSTAMP:20260419T192214
CREATED:20220817T094930Z
LAST-MODIFIED:20220818T125454Z
UID:24285-1661446800-1661450400@relnet.hu
SUMMARY:Hogyan adjunk többszintű védelmet a felhőalapú alkalmazásoknak
DESCRIPTION:A felhőszolgáltatásokat bevezető szervezeteknek muszáj figyelembe venniük azokat a problémákat\, amelyek az alkalmazások sérülékenységvédelméből\, valamint a végfelhasználók rendelkezésre állási- és teljesítménybeli igényeiből adódnak. \nEzen a webináriumon a Progress Kemp bemutatja\, hogyan lehet hatékonyan alkalmazni a többszintű védelmet a felhőalkalmazásokra\, és ezáltal jobban optimalizálni az alkalmazásélményt. Maurice McMullin\, a Progress Kemp vezető termékmenedzsere az alábbiakról fog beszélni:\n– Miért van szükség az alkalmazások többszintű védelmére\n– Hogyan telepíthető többszintű védelem a felhőalkalmazásokhoz és melyek a telepítés legjobb módjai\n– Hogyan gátolja meg a többszintű védelem a támadásokat és az újonnan megjelenő kiberfenyegetéseket \nCsatlakozzon a „Hogyan adjunk többszintű védelmet a felhőalapú alkalmazásokhoz” című webináriumhoz\, ahol bemutatjuk a felhőalkalmazások többszintű védelmének lépéseit a Progress Kemp LoadMaster terheléselosztó megoldás által. \nIdőpont: 2022. augusztus 25. 17:00-18:00 CEST\nElőadó: Maurice McMullin\, Product Marketing\, Progress Kemp
URL:https://relnet.hu/rendezveny/hogyan-adjunk-tobbszintu-vedelmet-a-felhoalapu-alkalmazasoknak/
LOCATION:Virtuális rendezvény
CATEGORIES:Kemp,Progress
ATTACH;FMTTYPE=image/png:https://relnet.hu/wp-content/uploads/2022/08/Nyersanyag.png
END:VEVENT
END:VCALENDAR