BEGIN:VCALENDAR
VERSION:2.0
PRODID:-//RelNet Technológia Kft. - ECPv5.16.4//NONSGML v1.0//EN
CALSCALE:GREGORIAN
METHOD:PUBLISH
XXXXXXXXXXXXXXXXXXXXXXXXXXXXXXXXXXXXXX
XXXXXXXXXXXXXXXXXXXXXXXXXXXXXXXXX
XXXXXXXXXXXXXXXXXXXXXXXXXXXXXXXXXXXXXXXXXXXXXXXXX
BEGIN:VTIMEZONE
TZID:Europe/Budapest
BEGIN:DAYLIGHT
TZOFFSETFROM:+0100
TZOFFSETTO:+0200
TZNAME:CEST
DTSTART:20220327T010000
END:DAYLIGHT
BEGIN:STANDARD
TZOFFSETFROM:+0200
TZOFFSETTO:+0100
TZNAME:CET
DTSTART:20221030T010000
END:STANDARD
END:VTIMEZONE
BEGIN:VEVENT
DTSTART;TZID=Europe/Budapest:20220223T140000
DTEND;TZID=Europe/Budapest:20220223T150000
DTSTAMP:20260420T003134
CREATED:20220222T094309Z
LAST-MODIFIED:20220225T093641Z
UID:20434-1645624800-1645628400@relnet.hu
SUMMARY:Ivanti partnerprogram újdonságok - Webinárium
DESCRIPTION:Regisztráljon az Ivanti webináriumára\, amelyen értesülhet a cég partnerprogramjának újdonságairól. \nAz Ivanti 2022-es üzleti stratégiájának elemi részét képezi a szoros együttműködés viszonteladóival. Ennek érdekében a vállalat rendszeresen tájékoztatja partnereit a partnerprogram újdonságiról. \nTémák: \n\nMegújítással kapcsolatos újdonságok és azok hatásainak áttekintése\nDelivery Partner Program – Partneri aktivitás nyomon követése\nÖsztönzők\, marketing\n\nOn-demand webinárium: \nREGISZTRÁCIÓ\n\n 
URL:https://relnet.hu/rendezveny/ivanti-partnerprogram-ujdonsagok-webinarium/2022-02-23/
LOCATION:Virtuális rendezvény
CATEGORIES:Ivanti,Viszonteladó,Webinárium
ATTACH;FMTTYPE=image/png:https://relnet.hu/wp-content/uploads/2022/02/2.png
END:VEVENT
END:VCALENDAR