BEGIN:VCALENDAR
VERSION:2.0
PRODID:-//RelNet Technológia Kft. - ECPv5.16.4//NONSGML v1.0//EN
CALSCALE:GREGORIAN
METHOD:PUBLISH
XXXXXXXXXXXXXXXXXXXXXXXXXXXXXXXXXXXXXX
XXXXXXXXXXXXXXXXXXXXXXXXXXXXXXXXX
XXXXXXXXXXXXXXXXXXXXXXXXXXXXXXXXXXXXXXXXXXXXXXXXX
BEGIN:VTIMEZONE
TZID:Europe/Budapest
BEGIN:DAYLIGHT
TZOFFSETFROM:+0100
TZOFFSETTO:+0200
TZNAME:CEST
DTSTART:20210328T010000
END:DAYLIGHT
BEGIN:STANDARD
TZOFFSETFROM:+0200
TZOFFSETTO:+0100
TZNAME:CET
DTSTART:20211031T010000
END:STANDARD
END:VTIMEZONE
BEGIN:VEVENT
DTSTART;TZID=Europe/Budapest:20211118T110000
DTEND;TZID=Europe/Budapest:20211118T120000
DTSTAMP:20260420T121021
CREATED:20210921T122309Z
LAST-MODIFIED:20210928T111739Z
UID:17742-1637233200-1637236800@relnet.hu
SUMMARY:Ivanti webináriumsorozat - Ivanti Endpoint Security & Privilege Management
DESCRIPTION:Az Ivanti folyamatosan azon dolgozik\, hogy a piac leginnovatívabb megoldásait gyűjtse össze egy márkanév alá. Portfóliójában találhatóak például a korábbi MobileIron\, Pulse Secure\, Cherwell\, Landesk\, HEAT stb. megoldások. Az eligazodást segítik a következő webináriumok\, melyek segítségével átláthatja a különböző területekre alkalmazható megoldásokat. \nA webináriumokon való részvételért plusz 5-5 pontot írunk jóvá a RelNet eLearning rendszerében! \nA webináriumokra külön-külön kell jelentkezni! Kérjük\, a rövid leírás alatt levő “TOVÁBB A REGISZTRÁCIÓS OLDALRA” link segítségével\, látogasson el az aktuális esemény oldalára és az oldalon történt bejelentkezést követően regisztráljon a kép alatt levő gomb segítségével!  \nA webináriumok ideje és a témák rövid összefoglalója: \nI. Ivanti Unified Endpoint Management\n2021. szeptember 23.\, csütörtök / 11:00–12:00\nElőadó: Sergei Smelov\, SE Ivanti \nAz Ivanti Unified Endpoint Manager egységes és megbízható végpontmenedzsment és felhasználói profilkezelő megoldás\, amely biztosítja a hálózat teljes láthatóságát\, automatizálja a szoftvertelepítéseket\, valamint csökkenti a bejelentkezésekkel járó problémákat\, miközben számos eszközzel és IT megoldással képes integrálódni a termelékenység növelése és a költségek csökkentése érdekében. \nTOVÁBB A REGISZTRÁCIÓS OLDALRA \nII. Ivanti User Workspace Manager\n2021. szeptember 30.\, csütörtök / 11:00–12:00\nElőadó: Marek Woda\, SE Ivanti \nAz Ivanti User Workspace Manager (UWM) leegyszerűsíti a desktop konfigurációt\, csökkenti az IT-kiadásokat és biztonságossá teszi a felhasználói munkameneteket. Az Ivanti UWM ezt az alábbi három termék egyesítésével éri el:\n1. Environment Manager – Felhasználói élmény javítása on-demand testreszabásokkal és kontextus alapú szabályvezérléssel\n2. File Director – Felhasználói fájlok egyszerű migrálása a Microsoft OneDrive felhőbe\, ami központosítja a tárolást és csökkenti a helyi tárolás költségeit.\n3. Performance Manager – Szabadalmaztatott erőforrás-szabályozás az alkalmazások reakcióidejének csökkentése érdekében\, amivel egy-egy szerver több felhasználóval terhelhető. \nTOVÁBB A REGISZTRÁCIÓS OLDALRA \nIII. MobileIron és Ivanti felhasználási eset\n2021. október 8.\, péntek / 10:00–11:00\nElőadó: Kerékfy Miklós\, SE Ivanti \nTOVÁBB A REGISZTRÁCIÓS OLDALRA \nIV. Ivanti Security Controls\n2021. október 14.\, csütörtök / 11:00–12:00\nElőadó: Maksimilian Prilepskij\, SE Ivanti \nAz Ivanti Security Controls egységes és automatizált megelőzési\, észlelési és válaszadási technikáit a legnagyobb támadási vektorokra tervezték. A szakma által is elismerten védekezik a legmodernebb kibertámadásokkal szemben\, integrálva a patch menedzsmentet\, a jogosultságkezelést és a fehérlistázást. \nTOVÁBB A REGISZTRÁCIÓS OLDALRA \nV. Ivanti Neurons for Workspace\n2021. október 21.\, csütörtök / 11:00–12:00\nElőadó: Leszek Twardowski\, SE Ivanti \nAz Ivanti Neurons Workspace 360-fokos\, valós idejű rálátást biztosít az eszközökre\, felhasználókra\, alkalmazásokra és szolgáltatásokra\, ami egyaránt csökkenti a komplexitást\, a hibajavítási időt és az eszkalációs költségeket. Az Ivanti Neurons forradalmi platformja egyszerűsíti és automatizálja az informatikai műveleteket\, összhangban az Ivanti „Everywhere Workplace” filozófiájával. \nTOVÁBB A REGISZTRÁCIÓS OLDALRA \nVI. Ivanti Neurons for ITSM\n2021. október 28.\, csütörtök / 11:00–12:00\nElőadó: Marek Woda\, SE Ivanti \nAz Ivanti Neurons for ITSM bevált\, erőteljes IT-szolgáltatás menedzsment megoldás\, amely üzleti szempontból stratégiai fontosságúvá alakítja át a help deskeket és a support csapatokat. Ez a multi-tenant termék felhőre optimalizált\, de on-premise is elérhető világszínvonalú ITSM megoldás. \nTOVÁBB A REGISZTRÁCIÓS OLDALRA \nVII. Az Ivanti Neurons for ITSM és az Ivanti Neurons for Healing integrációja\n2021. november 3.\, szerda / 11:00–12:00\nElőadó: Marek Woda\, SE Ivanti \nAz Ivanti Neurons for Healing automatizációs robotok garmadájával\, proaktív módon észleli\, diagnosztizálja és javítja a konfigurációs hibákat\, a teljesítményt és a biztonsági problémákat\, miközben megőrzi a végpontok megfelelőségét. A rutinfeladatok automatizációjával megvalósítható a ténylegesen öngyógyító környezet\, amivel idő és pénz takarítható meg. \nTOVÁBB A REGISZTRÁCIÓS OLDALRA \nVIII. Ivanti Endpoint Security & Privilege Management\n2021. november 18.\, csütörtök / 11:00–12:00\nElőadó: Maksimilian Prilepskij\, SE Ivanti \nAz Ivanti Endpoint Security számos biztonsági modul központi platformjaként szolgál. Az egyes modulok más-más megközelítést használnak a végpontok megvédésére. Az Ivanti Patch and Remediation modul például lefuttatja a javítóprogramot\, miután sebezhető pontot talált egy szoftverben. Az Ivanti Application Control modul pedig csak a jóváhagyott alkalmazásokat futtatja a végpontokon. Végül\, a Privilege Management segítségével a jogosultságok – igény szerint – felhasználó\, csoport\, alkalmazás és üzleti szabály szinten finomhangolhatók\, a legalacsonyabb szintű jogosultság elve alapján. A hálózat hatékony védelme érdekében az egyes modulok bármelyik kombinációja megvásárolható. \nTOVÁBB A REGISZTRÁCIÓS OLDALRA \nIX. Ivanti Neurons for ITAM\n2021. november 25.\, csütörtök / 11:00–12:00\nElőadó: Marek Woda\, SE Ivanti \nAz Ivanti Neurons for ITAM nyomon követi egy szervezet IT-erőforrásait. Az ‘asset management’ megoldás úgy lett kialakítva\, hogy a szakemberek egyéni munkafolyamatokat definiálhatnak és implementálhatnak\, legyen szó szoftverről\, hardverről\, szerverről\, kliensről\, virtuális vagy felhőalapú eszközről. \nTOVÁBB A REGISZTRÁCIÓS OLDALRA \nA webináriumokon való részvételért plusz 5-5 pontot írunk jóvá a RelNet eLearning rendszerében! \nJelentkezzen a webináriumokra most!
URL:https://relnet.hu/rendezveny/ivanti-webinariumsorozat-ivanti-endpoint-security-privilege-management/
LOCATION:Virtuális rendezvény
CATEGORIES:Ivanti,Viszonteladó
ATTACH;FMTTYPE=image/jpeg:https://relnet.hu/wp-content/uploads/2021/09/Ivanti-webinar-series-min.jpg
END:VEVENT
END:VCALENDAR