BEGIN:VCALENDAR
VERSION:2.0
PRODID:-//RelNet Technológia Kft. - ECPv5.16.4//NONSGML v1.0//EN
CALSCALE:GREGORIAN
METHOD:PUBLISH
XXXXXXXXXXXXXXXXXXXXXXXXXXXXXXXXXXXXXX
XXXXXXXXXXXXXXXXXXXXXXXXXXXXXXXXX
XXXXXXXXXXXXXXXXXXXXXXXXXXXXXXXXXXXXXXXXXXXXXXXXX
BEGIN:VTIMEZONE
TZID:Europe/Budapest
BEGIN:DAYLIGHT
TZOFFSETFROM:+0100
TZOFFSETTO:+0200
TZNAME:CEST
DTSTART:20200329T010000
END:DAYLIGHT
BEGIN:STANDARD
TZOFFSETFROM:+0200
TZOFFSETTO:+0100
TZNAME:CET
DTSTART:20201025T010000
END:STANDARD
END:VTIMEZONE
BEGIN:VEVENT
DTSTART;TZID=Europe/Budapest:20201126T100000
DTEND;TZID=Europe/Budapest:20201126T103000
DTSTAMP:20260420T003203
CREATED:20201117T102519Z
LAST-MODIFIED:20201117T103606Z
UID:11256-1606384800-1606386600@relnet.hu
SUMMARY:Juniper biztonsági evolúció
DESCRIPTION:2020.11.26-án 10:00 órakor Bajmóczi Balázs a WSH vezető rendszermérnöke végfelhasználóknak szóló Juniper webináriumot tart. \nA téma Juniper biztonsági evolúciója lesz.\nAz előadásban egy rövid történeti áttekintéssel bemutatásra kerülnek a hálózatokat érintő legfontosabb biztonsági vívmányok\, a tűzfalak alapvető szükségessége\, és szó esik a mesterséges intelligencia által vezérelt biztonsági megoldásokról is. \nAz előadás során írásos kérdések feltevésére van lehetőség\, amelyet az előadó a prezentáció befejezése után megválaszol. \nJelentkezzen most!\n\n\nJuniper biztonsági evolúció\nWebinárium\n2020. november 26. 10:00 \n \nREGISZTRÁCIÓ\n\n  \nKérjük\, hogy részvételi szándékát legkésőbb november 20-án munkaidő végeztéig e-mailben jelezze részünkre.\nA webinárium elérési linket a regisztrációt követően fogjuk elküldeni Önnek.
URL:https://relnet.hu/rendezveny/juniper-biztonsagi-evolucio/
LOCATION:Virtuális rendezvény
CATEGORIES:Juniper Networks,Végfelhasználó
ATTACH;FMTTYPE=image/png:https://relnet.hu/wp-content/uploads/2020/11/1-min-6.png
END:VEVENT
END:VCALENDAR