BEGIN:VCALENDAR
VERSION:2.0
PRODID:-//RelNet Technológia Kft. - ECPv5.16.4//NONSGML v1.0//EN
CALSCALE:GREGORIAN
METHOD:PUBLISH
XXXXXXXXXXXXXXXXXXXXXXXXXXXXXXXXXXXXXX
XXXXXXXXXXXXXXXXXXXXXXXXXXXXXXXXX
XXXXXXXXXXXXXXXXXXXXXXXXXXXXXXXXXXXXXXXXXXXXXXXXX
BEGIN:VTIMEZONE
TZID:Europe/Budapest
BEGIN:DAYLIGHT
TZOFFSETFROM:+0100
TZOFFSETTO:+0200
TZNAME:CEST
DTSTART:20190331T010000
END:DAYLIGHT
BEGIN:STANDARD
TZOFFSETFROM:+0200
TZOFFSETTO:+0100
TZNAME:CET
DTSTART:20191027T010000
END:STANDARD
END:VTIMEZONE
BEGIN:VEVENT
DTSTART;VALUE=DATE:20190305
DTEND;VALUE=DATE:20190306
DTSTAMP:20260420T064611
CREATED:20190205T084047Z
LAST-MODIFIED:20190311T155034Z
UID:1510-1551744000-1551830399@relnet.hu
SUMMARY:Juniper Networks - Bevezetés a Junos operációs rendszerbe II. oktatás
DESCRIPTION:2019. március 5-én kerül megrendezésre a Juniper egynapos a Juniper Bevezetés a Junos operációs rendszerbe II. oktatás elméleti\, gyakorlati és laborfeladatokat is tartalmazó részekkel. Az előadók Csongrádi Eszter és Kőrössi Ádám\, a RelNet Technológia Kft. rendszermérnökei lesznek. Az oktatásokon való részvételhez szükséges előfeltételek: \n\nhálózati alapismeretek\nOSI referencia modell ismerete\nTCP/IP protokoll család ismerete\nBevezetés a Junos operációs rendszerbe I. oktatás\n\n2019. március 5.\nA Bevezetés a Junos operációs rendszerbe II. oktatás tematikája: Routing alapok \n\nAlapfogalmak\nA routing tábla\nRouting példányok\nStatikus routing\nDinamikus routing\n\nRouting szabályok \n\nÁttekintés\nEsettanulmány\n\nTűzfal szűrők \n\nÁttekintés\nEsettanulmány\n\nA férőhelyek száma korlátozott\, a regisztrációt a jelentkezés sorrendjében tudjuk elfogadni! \nAz előadások magyar nyelvűek. Az oktatás 9:00-től 17:00-ig tart. \nIdőpont: 2019. március 5. Helyszín: Az oktatás helyszíne a RelNet oktatóterme Cím: 1047 Budapest\, Váci út 71. – Az épület és az udvar bejárata is a Perényi Zsigmond utcáról nyílik. Parkolás: Díjmentes a belső udvaron és a környező utcákban is. Részvételi díj: nettó 149.900 Ft/fő/nap +ÁFA\n \nTöbb jelentkező vagy több tréningen való részvételi szándék esetén kérje egyedi ajánlatunk! \nKapcsolódó oktatások: \n2019. március 4. Bevezetés a Junos operációs rendszerbe I.2019. március 6. Junos Security alapismeretek I. 2019. március 7. Junos Security alapismeretek II. 2019. március 8. Haladó Junos Security \nVegyen részt a teljes Juniper Networks oktatássorozaton és kérje kedvező csomagárunk! \nTovábbi oktatásaink: \n2019. február 6-7. Extreme Networks – Extreme Wireless WiNG 2019. február 27. FortiGate Üzemeltetési alapismeretek I.2019. február 28. FortiGate Üzemeltetési alapismeretek II.2019. március  1.  FortiClient és EMS 2019. március 11. FortiGate Infrastructure: Haladó Üzemeltetési ismeretek I.2019. március 12. FortiGate Infrastructure: Haladó Üzemeltetési ismeretek II. 2019. március 13. FortiManager 2019. március 14. FortiAnalyzerAz Ön igényeire szabott oktatásra van szüksége? Kérje ajánlatunk!
URL:https://relnet.hu/rendezveny/juniper-networks-bevezetes-a-junos-operacios-rendszerbe-ii-oktatas/
LOCATION:RelNet konferencia terem\, Váci út 71.\, Budapest\, 1047\, Magyarország
CATEGORIES:Gyártó,Juniper Networks,JUNOS,Oktatás,Végfelhasználó,Viszonteladó
ATTACH;FMTTYPE=image/png:https://relnet.hu/wp-content/uploads/2019/02/JUNOS_bev-1.png
ORGANIZER;CN="RelNet%20Technol%C3%B3gia%20Kft.":MAILTO:marketing@relnet.hu
GEO:47.572774139773;19.081058942328
X-APPLE-STRUCTURED-LOCATION;VALUE=URI;X-ADDRESS=RelNet konferencia terem Váci út 71. Budapest 1047 Magyarország;X-APPLE-RADIUS=500;X-TITLE=Váci út 71.:geo:19.081058942328,47.572774139773
END:VEVENT
END:VCALENDAR