BEGIN:VCALENDAR
VERSION:2.0
PRODID:-//RelNet Technológia Kft. - ECPv5.16.4//NONSGML v1.0//EN
CALSCALE:GREGORIAN
METHOD:PUBLISH
XXXXXXXXXXXXXXXXXXXXXXXXXXXXXXXXXXXXXX
XXXXXXXXXXXXXXXXXXXXXXXXXXXXXXXXX
XXXXXXXXXXXXXXXXXXXXXXXXXXXXXXXXXXXXXXXXXXXXXXXXX
BEGIN:VTIMEZONE
TZID:Europe/Budapest
BEGIN:DAYLIGHT
TZOFFSETFROM:+0100
TZOFFSETTO:+0200
TZNAME:CEST
DTSTART:20220327T010000
END:DAYLIGHT
BEGIN:STANDARD
TZOFFSETFROM:+0200
TZOFFSETTO:+0100
TZNAME:CET
DTSTART:20221030T010000
END:STANDARD
END:VTIMEZONE
BEGIN:VEVENT
DTSTART;TZID=Europe/Budapest:20220614T090000
DTEND;TZID=Europe/Budapest:20220614T130000
DTSTAMP:20260420T031141
CREATED:20220603T122734Z
LAST-MODIFIED:20220607T133144Z
UID:23100-1655197200-1655211600@relnet.hu
SUMMARY:Juniper Networks (Mist) AI - RelNet online workshop magyar nyelven\, üzemeltetési demóval + pizza
DESCRIPTION:Vegyen részt 2022. június 14-i online workshopunkon\, amelyen a RelNet rendszermérnökei részletesen körbejárják a Juniper Networks Mist AI megoldását\, mind elméleti\, mind gyakorlati szempontból. \nA Juniper Mist AI platform kiszámíthatóvá\, megbízhatóvá és mérhetővé teszi a hálózatkezelést\, és lehetővé teszi\, hogy lássuk\, milyen a mindenkori felhasználói élmény. Az időigényes manuális IT-feladatokat mesterséges intelligencia által vezérelt proaktív automatizálási és öngyógyító képességek váltják fel\, csökkentve az üzemeltetésre fordított időt és költségeket. \nIsmerje meg a Juniper Networks ’AI-Driven Enterprise’ portfólióját és a Mist AI platformot! \nPROGRAM \nElméleti rész: \n\nA Juniper Networks és a Mist AI áttekintése\nA Mist Cloud áttekintése: felhős menedzsment\nTámogatott eszközök (Wi-Fi 5 és Wi-Fi 6\, AP és switch portfólió)\nA Mist mesterséges intelligenciája: Marvis\, SLE\, RRM\nBeltéri helymeghatározás\nAutomatizálás API-n keresztül\n\nDemó: \n\nHozzáférési pontok\, switchek\, tűzfalak hozzáadása a Mist Cloudhoz; konfigurálás\nHibaészlelés és -elhárítás\nBeltéri helymeghatározás\nAutomatizálás API-n keresztül\nKérdések és válaszok\nKvízjáték\n\nIdőpont: 2022. június 14. (kedd)\, 9:00-13:00 \nElőadók: Horváth Attila és Szuromi Kristóf a RelNet Kft. rendszermérnökei \nAz előadások végére a magyarországi résztvevőknek pizzát küldünk az általuk megadott címre. \nAz eseményen való részvételt 25 extra ponttal jutalmazzuk az eLearning rendszerünkben! \nREGISZTRÁLJON MOST!\nRegisztrálni bejelentkezés után lehet a fenti “Jelentkezés a rendezvényre” gombra kattintva!
URL:https://relnet.hu/rendezveny/juniper-networks-mist-ai-relnet-online-workshop-magyar-nyelven-uzemeltetesi-demoval-pizza/
LOCATION:Virtuális rendezvény
CATEGORIES:Juniper Networks,Mist,Végfelhasználó,Viszonteladó,Webinárium
ATTACH;FMTTYPE=image/png:https://relnet.hu/wp-content/uploads/2022/06/AIDE-min-1.png
END:VEVENT
END:VCALENDAR