BEGIN:VCALENDAR
VERSION:2.0
PRODID:-//RelNet Technológia Kft. - ECPv5.16.4//NONSGML v1.0//EN
CALSCALE:GREGORIAN
METHOD:PUBLISH
XXXXXXXXXXXXXXXXXXXXXXXXXXXXXXXXXXXXXX
XXXXXXXXXXXXXXXXXXXXXXXXXXXXXXXXX
XXXXXXXXXXXXXXXXXXXXXXXXXXXXXXXXXXXXXXXXXXXXXXXXX
BEGIN:VTIMEZONE
TZID:Europe/Budapest
BEGIN:DAYLIGHT
TZOFFSETFROM:+0100
TZOFFSETTO:+0200
TZNAME:CEST
DTSTART:20220327T010000
END:DAYLIGHT
BEGIN:STANDARD
TZOFFSETFROM:+0200
TZOFFSETTO:+0100
TZNAME:CET
DTSTART:20221030T010000
END:STANDARD
END:VTIMEZONE
BEGIN:VEVENT
DTSTART;TZID=Europe/Budapest:20220321T170000
DTEND;TZID=Europe/Budapest:20220321T180000
DTSTAMP:20260420T020728
CREATED:20220207T154407Z
LAST-MODIFIED:20220304T090215Z
UID:20279-1647882000-1647885600@relnet.hu
SUMMARY:Juniper Networks webinárium
DESCRIPTION:Vegyen részt a Juniper Networks soron következő\, egyórás webináriumain\, amelyeken az AI-Driven Enterprise és SD-WAN témákban tart demókat a Juniper szakértője.\nRegisztrálni a Juniper Partner oldalán történő belépés után lehet. \nA webináriumok időpontjait itt találja:\n\n\n\nDátum / időpont\nElőadás\n\n\nfebruár 9. \n20:00-21:00\nAI-Driven Enterprise Demo: Experience the Power of AIOPs Across Your Entire Network\nREGISZTRÁCIÓ\n\n\n\nfebruár 16. \n17:00-18:00\nAI-Driven SD-WANsday: Session Smart Demo\nREGISZTRÁCIÓ\n\n\n\nfebruár 22. \n17:00-18:00\nThe Case for AI in SD-WAN\nREGISZTRÁCIÓ\n\n\n\nfebruár 23. \n17:00-18:00\nAI-Driven SD-WANsday: Session Smart Demo\nREGISZTRÁCIÓ\n\n\n\nmárcius 9. \n17:00-18:00\nAI-Driven SD-WANsday: Session Smart Demo\nREGISZTRÁCIÓ\n\n\n\nmárcius 23. \n17:00-18:00\nAI-Driven SD-WANsday: Session Smart Demo\nREGISZTRÁCIÓ\n\n\n\n\n \nRegisztráljon most!
URL:https://relnet.hu/rendezveny/juniper-networks-webinariumok-2022-03-23/
LOCATION:Virtuális rendezvény
CATEGORIES:Juniper Networks,Webinárium
ATTACH;FMTTYPE=image/png:https://relnet.hu/wp-content/uploads/2020/04/Juniper-web.png
END:VEVENT
END:VCALENDAR