BEGIN:VCALENDAR
VERSION:2.0
PRODID:-//RelNet Technológia Kft. - ECPv5.16.4//NONSGML v1.0//EN
CALSCALE:GREGORIAN
METHOD:PUBLISH
XXXXXXXXXXXXXXXXXXXXXXXXXXXXXXXXXXXXXX
XXXXXXXXXXXXXXXXXXXXXXXXXXXXXXXXX
XXXXXXXXXXXXXXXXXXXXXXXXXXXXXXXXXXXXXXXXXXXXXXXXX
BEGIN:VTIMEZONE
TZID:Europe/Budapest
BEGIN:DAYLIGHT
TZOFFSETFROM:+0100
TZOFFSETTO:+0200
TZNAME:CEST
DTSTART:20200329T010000
END:DAYLIGHT
BEGIN:STANDARD
TZOFFSETFROM:+0200
TZOFFSETTO:+0100
TZNAME:CET
DTSTART:20201025T010000
END:STANDARD
END:VTIMEZONE
BEGIN:VEVENT
DTSTART;TZID=Europe/Budapest:20200124T090000
DTEND;TZID=Europe/Budapest:20200124T133000
DTSTAMP:20260420T002904
CREATED:20200110T153631Z
LAST-MODIFIED:20200110T153631Z
UID:4488-1579856400-1579872600@relnet.hu
SUMMARY:Juniper Security Update
DESCRIPTION:2020. január 24-én 9 órától a Juniper technikai újdonságai című előadást tart Slawomir Karas a Juniper Networks szenior partner rendszermérnöke\, mely során a nagyvállalati biztonsági és hálózati megoldások területén történt fejlesztések kerülnek ismertetésre. \nNapirend:  \n\nJuniper Security Update – 2019/2020 újdonságai\nJATP – helyszíni sandbox megoldás a nulladik napi fenyegetések kivédésére\n\nSzünet \n\nBiztonságos SD-WAN\nMist aktualitások – Mesterséges intelligencia alkalmazása campus hálózatoknál\nKérdések és válaszok\n\n\n\nViszonteladóinknak ingyenes részvételi lehetőséget biztosítunk\, amihez előzetes regisztráció szükséges!\nA férőhelyek száma korlátozott\, a regisztrációt a jelentkezés sorrendjében tudjuk elfogadni! \nAz előadások angol nyelvűek. \nA workshop 9:00-tól 13:30-ig tart.\nIdőpont: 2020. január 24.\nHelyszín: Az oktatás helyszíne a RelNet oktatóterme.\nCím: 1047 Budapest\, Váci út 71. – Az épület és az udvar bejárata is a Perényi Zsigmond utcáról nyílik.\nParkolás: Díjmentes a belső udvaron és a környező utcákban is. \nVárjuk a nagyvállalati technikai újdonságokat bemutató előadásokra! \nJelentkezz most! \nKapcsolódó esemény: \n2020. február 12-13. Juniper Tech & Sales Bootcamp – New York Palace Hotel  \nKapcsolódó hír: \nNXTWORK 2019 EMEA\, London \n 
URL:https://relnet.hu/rendezveny/juniper-security-update/
LOCATION:RelNet konferencia terem\, Váci út 71.\, Budapest\, 1047\, Magyarország
CATEGORIES:Gyártó,JATP,Juniper Networks,RelNet,Rendezvény,Viszonteladó,Wifi
ATTACH;FMTTYPE=image/png:https://relnet.hu/wp-content/uploads/2020/01/Juniper-nagyvállalti-előadás.png
GEO:47.572774139773;19.081058942328
X-APPLE-STRUCTURED-LOCATION;VALUE=URI;X-ADDRESS=RelNet konferencia terem Váci út 71. Budapest 1047 Magyarország;X-APPLE-RADIUS=500;X-TITLE=Váci út 71.:geo:19.081058942328,47.572774139773
END:VEVENT
END:VCALENDAR