BEGIN:VCALENDAR
VERSION:2.0
PRODID:-//RelNet Technológia Kft. - ECPv5.16.4//NONSGML v1.0//EN
CALSCALE:GREGORIAN
METHOD:PUBLISH
XXXXXXXXXXXXXXXXXXXXXXXXXXXXXXXXXXXXXX
XXXXXXXXXXXXXXXXXXXXXXXXXXXXXXXXX
XXXXXXXXXXXXXXXXXXXXXXXXXXXXXXXXXXXXXXXXXXXXXXXXX
BEGIN:VTIMEZONE
TZID:Europe/Budapest
BEGIN:DAYLIGHT
TZOFFSETFROM:+0100
TZOFFSETTO:+0200
TZNAME:CEST
DTSTART:20210328T010000
END:DAYLIGHT
BEGIN:STANDARD
TZOFFSETFROM:+0200
TZOFFSETTO:+0100
TZNAME:CET
DTSTART:20211031T010000
END:STANDARD
END:VTIMEZONE
BEGIN:VEVENT
DTSTART;TZID=Europe/Budapest:20210310T173000
DTEND;TZID=Europe/Budapest:20210310T183000
DTSTAMP:20260420T045419
CREATED:20210303T160956Z
LAST-MODIFIED:20210304T154645Z
UID:13937-1615397400-1615401000@relnet.hu
SUMMARY:Juniper viszonteladói webinárium
DESCRIPTION:Március 8-án a Juniper a disztribútorai és partnerei számára elindítja a One DR Portal-t\, amely egyesíti a Juniper és a Mist Deal regisztrációs portálokat. \nA gyártó a partnerei számára képzéseket szervez annak érdekében\, hogy áttekintést nyújtson a működésbeli és szabályokat érintő változásokról. \nA képzések újdonságokkal is szolgálnak a Velocity és Deal regisztrációs programokkal kapcsolatban. \nNapirendi pontok:\n\nDeal regisztráció\n\nHogyan juthatnak a partnerek további kedvezményekhez a Deal regisztrációval?\nA program feltételei és előnyei\n„Új” – Deal Driven típus\nÁrkedvezmény és árkülönbség (Gapping) szabályok\nPortál hozzáférés\nHogyan hozzunk létre egy Deal regisztrációt?\nJóváhagyási folyamat\nAjánlatkérések\n\n\nVelocity program\n\nÉrtékajánlat és előnyök a partnerek számára\nHogyan használható ki a Velocity árazása az Ön disztribútorával?\nJogosult termékek\n\n\n\nKépzések:\n\n\n\nDátum\nIdőpont (CET)\nRégió\nKözönség\nTéma\nRegisztráció\n\n\n  \n2021. március 10.\n17:30 – 18:30\nAMER EMEA\n1. képzés – Partnerek\nVelocity és Deal regisztrációs program újdonságai\nREGISZTRÁCIÓ\n\n\n\n2021. március 11.\n04:00 – 05:00\nAPAC\n1. képzés – Partnerek\nVelocity és Deal regisztrációs program újdonságai\nREGISZTRÁCIÓ\n\n\n\n2021. március 11.\n17:30 – 18:30\nAMER EMEA\n2. képzés – Partnerek\nVelocity és Deal regisztrációs program újdonságai\nREGISZTRÁCIÓ\n\n\n\n2021. március 12.\n04:00 – 05:00\nAPAC\n2. képzés – Partnerek\nVelocity és Deal regisztrációs program újdonságai\nREGISZTRÁCIÓ\n\n\n\n\nBízunk benne\, hogy minden partnerünkkel megoszthatjuk ezeket az információkat. \nKérjük\, csatlakozzon bármelyik képzéshez\, amely a legjobban megfelel Önnek!
URL:https://relnet.hu/rendezveny/juniper-viszonteladoi-webinariun/2021-03-10/
LOCATION:Virtuális rendezvény
CATEGORIES:Juniper Networks
ATTACH;FMTTYPE=image/jpeg:https://relnet.hu/wp-content/uploads/2021/03/Velocity-min.jpg
END:VEVENT
END:VCALENDAR