BEGIN:VCALENDAR
VERSION:2.0
PRODID:-//RelNet Technológia Kft. - ECPv5.16.4//NONSGML v1.0//EN
CALSCALE:GREGORIAN
METHOD:PUBLISH
XXXXXXXXXXXXXXXXXXXXXXXXXXXXXXXXXXXXXX
XXXXXXXXXXXXXXXXXXXXXXXXXXXXXXXXX
XXXXXXXXXXXXXXXXXXXXXXXXXXXXXXXXXXXXXXXXXXXXXXXXX
BEGIN:VTIMEZONE
TZID:Europe/Budapest
BEGIN:DAYLIGHT
TZOFFSETFROM:+0100
TZOFFSETTO:+0200
TZNAME:CEST
DTSTART:20210328T010000
END:DAYLIGHT
BEGIN:STANDARD
TZOFFSETFROM:+0200
TZOFFSETTO:+0100
TZNAME:CET
DTSTART:20211031T010000
END:STANDARD
END:VTIMEZONE
BEGIN:VEVENT
DTSTART;TZID=Europe/Budapest:20210323T160000
DTEND;TZID=Europe/Budapest:20210323T170000
DTSTAMP:20260420T030945
CREATED:20210322T174909Z
LAST-MODIFIED:20210322T175103Z
UID:14256-1616515200-1616518800@relnet.hu
SUMMARY:Juniper webinárium
DESCRIPTION:  \n\n\n\nDátum\nElőadás címe\nRegisztráció\n\n\n2021.03.23.\n16:00-17:00 CET\nAccelerate Plus\nREGISZTRÁCIÓ\n\n\n\n2021.03.24.\n17:00-17:30\nPartner Prime Time\nREGISZTRÁCIÓ\n\n\n\n\n 
URL:https://relnet.hu/rendezveny/juniper-webinarium/2021-03-23/
CATEGORIES:Juniper Networks
ATTACH;FMTTYPE=image/png:https://relnet.hu/wp-content/uploads/2021/03/Webinar_min-1.png
END:VEVENT
END:VCALENDAR