BEGIN:VCALENDAR
VERSION:2.0
PRODID:-//RelNet Technológia Kft. - ECPv5.16.4//NONSGML v1.0//EN
CALSCALE:GREGORIAN
METHOD:PUBLISH
XXXXXXXXXXXXXXXXXXXXXXXXXXXXXXXXXXXXXX
XXXXXXXXXXXXXXXXXXXXXXXXXXXXXXXXX
XXXXXXXXXXXXXXXXXXXXXXXXXXXXXXXXXXXXXXXXXXXXXXXXX
BEGIN:VTIMEZONE
TZID:Europe/Budapest
BEGIN:DAYLIGHT
TZOFFSETFROM:+0100
TZOFFSETTO:+0200
TZNAME:CEST
DTSTART:20200329T010000
END:DAYLIGHT
BEGIN:STANDARD
TZOFFSETFROM:+0200
TZOFFSETTO:+0100
TZNAME:CET
DTSTART:20201025T010000
END:STANDARD
END:VTIMEZONE
BEGIN:VEVENT
DTSTART;TZID=Europe/Budapest:20200616T150000
DTEND;TZID=Europe/Budapest:20200616T160000
DTSTAMP:20260420T030947
CREATED:20200402T103507Z
LAST-MODIFIED:20200612T173707Z
UID:6998-1592319600-1592323200@relnet.hu
SUMMARY:Juniper webináriumok
DESCRIPTION:A Juniper Networks a COVID-19 járvány miatt elmaradt előadásait virtuálisan tartja meg.\nRegisztrálni a Juniper Partner oldalán történ belépés után lehet. \nA webináriumok széles választékát és időpontjait itt találja:\n\n\n\nDátum / időpont\nElőadás\n\n\njúnius 15. 15:00-16:00\nFrom SD-WAN to the AI-Driven Enterprise\nREGISZTRÁCIÓ\n\n\n\njúnius 16. 15:00-16:00\nDatacenter Security\nREGISZTRÁCIÓ\n\n\n\njúnius 17. 10:00-11:00\nLooking for Threats without Decrypting – Juniper Encrypted Traffic\nREGISZTRÁCIÓ\n\n\n\njúnius 17. 15:00-16:00\nAI Driven Enterprise\nREGISZTRÁCIÓ\n\n\n\njúnius 24. 15:00-16:00\n\nJuniper Security 2020 – 1 Hour Review \n\nREGISZTRÁCIÓ\n\n\n\njúnius 25. 15:00-16:00\nHow to build your own topology using Juniper Cloud Labs (JCL)?\nREGISZTRÁCIÓ\n\n\n\njúlius 1. 10:00-11:00\n\nJuniper Secure Analytics 2020 \n\nREGISZTRÁCIÓ\n\n\n\njúlius 2. 15:00-16:00\nFrom SD-WAN to the AI-Driven Enterprise\nREGISZTRÁCIÓ\n\n\n\njúlius 8. 10:00-11:00\nWhy Juniper Security Vision and Objection Handling\nREGISZTRÁCIÓ\n\n\n\njúlius 15. 15:00-16:00\nJuniper Security Management – Matching Platforms to Deployment Scenarios\nREGISZTRÁCIÓ\n\n\n\n\nKorábbi előadások:\n\n\n\nDátum / időpont\nElőadás\n\n\n\nRögzített webinárium \n\n\nDatacenter Visibility Using Telemetry \n\n\nMEGNÉZEM\n\n\n\n\n\nRögzített webinárium \n\n\nCSO Overview Platform Comparison \n\n\nMEGNÉZEM\n\n\n\n\n\nRögzített webinárium \n\n\nZero Touch Provisioning Masterclass with Sky Enterprise \n\n\nMEGNÉZEM\n\n\n\n\n\nRögzített webinárium \n\n\nContrail SD-WAN Solution \n\n\nMEGNÉZEM\n\n\n\n\n\nRögzített webinárium \n\n\nDataCenter Fabric Automation \n\n\nMEGNÉZEM\n\n\n\n\n\nRögzített webinárium \n\n\nSecIntel for a Threat-Aware Infrastructure \n\n\nMEGNÉZEM\n\n\n\n\n\nRögzített webinárium \n\n\nContrail SD-LAN Solution \n\n\nMEGNÉZEM\n\n\n\n\n\nRögzített webinárium \n\n\nDetect\, analyze and mitigate threats with Juniper: Online HANDS-ON WORKSHOP WITH JUNIPER ATP APPLIANCE \n\n\nREGISZTRÁCIÓ\n\n\n\n\n\nRögzített webinárium \n\n\nWhy Juniper? Security Vision and Objection Handling \n\n\nREGISZTRÁCIÓ\n\n\n\n\n\nRögzített webinárium \n\n\nData Center Fabric Automation \n\n\nREGISZTRÁCIÓ\n\n\n\n\n\nRögzített webinárium \n\n\nDetect\, analyze and mitigate threats with Juniper: Online HANDS-ON WORKSHOP WITH JUNIPER ATP APPLIANCE \n\n\nREGISZTRÁCIÓ\n\n\n\n\n\nRögzített webinárium \n\n\nDetect\, analyze and mitigate threats with Juniper: Online HANDS-ON WORKSHOP WITH JUNIPER ATP APPLIANCE \n\n\nREGISZTRÁCIÓ\n\n\n\n\n\nRögzített webinárium \n\n\nLooking for Threats without Decrypting – Juniper Encrypted Traffic \n\n\nREGISZTRÁCIÓ\n\n\n\n\n\nRegisztráljon most!
URL:https://relnet.hu/rendezveny/juniper-webinariumok-2020-06-16/
CATEGORIES:Juniper Networks,Oktatás,Viszonteladó,Webinárium
ATTACH;FMTTYPE=image/png:https://relnet.hu/wp-content/uploads/2020/04/Juniper-web.png
END:VEVENT
END:VCALENDAR