BEGIN:VCALENDAR
VERSION:2.0
PRODID:-//RelNet Technológia Kft. - ECPv5.16.4//NONSGML v1.0//EN
CALSCALE:GREGORIAN
METHOD:PUBLISH
XXXXXXXXXXXXXXXXXXXXXXXXXXXXXXXXXXXXXX
XXXXXXXXXXXXXXXXXXXXXXXXXXXXXXXXX
XXXXXXXXXXXXXXXXXXXXXXXXXXXXXXXXXXXXXXXXXXXXXXXXX
BEGIN:VTIMEZONE
TZID:Europe/Budapest
BEGIN:DAYLIGHT
TZOFFSETFROM:+0100
TZOFFSETTO:+0200
TZNAME:CEST
DTSTART:20190331T010000
END:DAYLIGHT
BEGIN:STANDARD
TZOFFSETFROM:+0200
TZOFFSETTO:+0100
TZNAME:CET
DTSTART:20191027T010000
END:STANDARD
END:VTIMEZONE
BEGIN:VEVENT
DTSTART;TZID=Europe/Budapest:20190326T180000
DTEND;TZID=Europe/Budapest:20190326T190000
DTSTAMP:20260420T003233
CREATED:20190326T161336Z
LAST-MODIFIED:20190326T161336Z
UID:1883-1553623200-1553626800@relnet.hu
SUMMARY:Kettős módú biztonságos hozzáférés – Hogyan használjuk ki a VPN és az SDP kínálta előnyöket?
DESCRIPTION:Csatlakozzon a Pulse Secure webináriumához és tudja meg hogyan lehet a szoftver által meghatározott határvonalat (Software-defined Perimeter\, SDP) alkalmazni a hálózat biztonságának és megfelelőségének javítására és egyidejűleg egyszerűsíteni a felhasználók hozzáférését a felhő és az adatközpont erőforrásaihoz. \nA webináriumon ismertetésre kerül\, hogy milyen piaci hajtóerők eredményeként fejlesztette tovább a Pulse Secure a Zero Trust megoldást\, és hozta létre az SDP-t. Jelenleg a Pulse Secure az egyetlen olyan gyártó\, amely egyben kínálja a kettős módú biztonságos hozzáférést\, a VPN-t és az SDP-t\, ezáltal biztosítva a vállalkozásoknak\, hogy egyetlen menedzsment felületet használhassanak és kihasználják az ebből eredő működési átláthatóság előnyeit. Nézze meg\, hogy az SDP hogyan képes láthatatlanná tenni erőforrásokat a jogosulatlan felhasználók\, így például a hackerek számára\, és miként kínál „mély” hitelesítést egyaránt felhasználóknak és eszközöknek a nagyobb biztonság érdekében. \n \n \nA webinárium angol nyelvű és a gyártó oldalán lehet rá regisztrálni. \nKettős módú biztonságos hozzáférés – Hogyan használjuk ki a VPN és az SDP kínálta előnyöket?2019. március 26. 18:00-19:00 \nREGISZTRÁCIÓ
URL:https://relnet.hu/rendezveny/kettos-modu-biztonsagos-hozzaferes-hogyan-hasznaljuk-ki-a-vpn-es-az-sdp-kinalta-elonyoket/
CATEGORIES:Gyártó,Pulse Secure,Végfelhasználó,Viszonteladó,Webinárium
ATTACH;FMTTYPE=image/png:https://relnet.hu/wp-content/uploads/2019/03/Pulse-webinar1.png
END:VEVENT
END:VCALENDAR