BEGIN:VCALENDAR
VERSION:2.0
PRODID:-//RelNet Technológia Kft. - ECPv5.16.4//NONSGML v1.0//EN
CALSCALE:GREGORIAN
METHOD:PUBLISH
XXXXXXXXXXXXXXXXXXXXXXXXXXXXXXXXXXXXXX
XXXXXXXXXXXXXXXXXXXXXXXXXXXXXXXXX
XXXXXXXXXXXXXXXXXXXXXXXXXXXXXXXXXXXXXXXXXXXXXXXXX
BEGIN:VTIMEZONE
TZID:Europe/Budapest
BEGIN:DAYLIGHT
TZOFFSETFROM:+0100
TZOFFSETTO:+0200
TZNAME:CEST
DTSTART:20190331T010000
END:DAYLIGHT
BEGIN:STANDARD
TZOFFSETFROM:+0200
TZOFFSETTO:+0100
TZNAME:CET
DTSTART:20191027T010000
END:STANDARD
END:VTIMEZONE
BEGIN:VEVENT
DTSTART;TZID=Europe/Budapest:20190528T110000
DTEND;TZID=Europe/Budapest:20190528T120000
DTSTAMP:20260420T021854
CREATED:20190502T101503Z
LAST-MODIFIED:20190506T125112Z
UID:2279-1559041200-1559044800@relnet.hu
SUMMARY:Különleges Extreme bejelentés
DESCRIPTION:Az alkalmazásokhoz\, felhasználókhoz\, eszközökhöz és „dolgokhoz” való folyamatos kapcsolódás igénye soha nem látott változásokat eredményezett a hálózatban\, amely összeköti az embert és a rendszert. \nA gépi tanulással és mesterséges intelligenciával kiegészült a hálózat egyre inkább automatizált\, intelligens és öngyógyító. Ezek a változások olyan autonóm hálózatokat hoznak létre\, amelyek szinte már emberi felügyelet nélkül futnak – de ez nem jelenti azt\, hogy az emberi tényezőt eltávolítjuk a rendszerből. \nÉppen ellenkezőleg\, az Extreme áthidalja az emberek és a lehetőségek közötti szakadékot: az informatikai szakemberek az így a felszabaduló energiájukkal versenyelőnyhöz juttatják a szervezeteket\, felgyorsítják az innovációt és segítik az ügyfélélmény fejlesztését. \n\n\nA webinárium angol nyelvű és a gyártó oldalán lehet rá regisztrálni. Jelentkezzen már most! \nSPECIAL ANNOUNCEMENT – Something Big on the Networking Horizon\n2019. május 28. 11:00 (CET) \nREGISZTRÁCIÓ
URL:https://relnet.hu/rendezveny/kulonleges-extreme-bejelentes/
CATEGORIES:Extreme Networks,Gyártó,Rendezvény,Végfelhasználó,Viszonteladó,Webinárium
ATTACH;FMTTYPE=image/png:https://relnet.hu/wp-content/uploads/2019/05/Speacial...webinar.png
END:VEVENT
END:VCALENDAR