BEGIN:VCALENDAR
VERSION:2.0
PRODID:-//RelNet Technológia Kft. - ECPv5.16.4//NONSGML v1.0//EN
CALSCALE:GREGORIAN
METHOD:PUBLISH
XXXXXXXXXXXXXXXXXXXXXXXXXXXXXXXXXXXXXX
XXXXXXXXXXXXXXXXXXXXXXXXXXXXXXXXX
XXXXXXXXXXXXXXXXXXXXXXXXXXXXXXXXXXXXXXXXXXXXXXXXX
BEGIN:VTIMEZONE
TZID:Europe/Budapest
BEGIN:DAYLIGHT
TZOFFSETFROM:+0100
TZOFFSETTO:+0200
TZNAME:CEST
DTSTART:20220327T010000
END:DAYLIGHT
BEGIN:STANDARD
TZOFFSETFROM:+0200
TZOFFSETTO:+0100
TZNAME:CET
DTSTART:20221030T010000
END:STANDARD
END:VTIMEZONE
BEGIN:VEVENT
DTSTART;TZID=Europe/Budapest:20220407T100000
DTEND;TZID=Europe/Budapest:20220407T110000
DTSTAMP:20260420T030957
CREATED:20220323T082152Z
LAST-MODIFIED:20220323T082152Z
UID:21166-1649325600-1649329200@relnet.hu
SUMMARY:Log Supervisor a Visibility Center helyett – Stormshield webinárium
DESCRIPTION:A Stormshield közölte\, hogy 2022. december 31-ével kivezeti a Visibility Center nevű központi log menedzsment megoldását. Helyette a Log Supervisor használatát javasolja. \nA Log Supervisor rugalmasabb és fejlettebb naplófájlkezelő megoldás a Visibility Centernél. Fokozza a logok láthatóságát és optimalizálja az incidensekre való válaszadást. Ráadásul a Log Supervisor a megfelelőségi és üzemeltetési elvárásoknak is teljes mértékben eleget tesz. \nA Log Supervisor előnyei: \n\nHatékonyság javítása – Vezérlőpanelek és riportok segítségével gyorsan és globálisan elérhetők a tűzfal logok\nKereső funkció és az incidensekre történő válaszadás a termelékenység és biztonság növelése érdekében\nA logfájlok tárolására vonatkozó jogszabályok betartása\n\nIdőpont: 2022. április 7. (csütörtök)\, 10:00-11:00 CET \n Regisztráljon és tudjon meg mindent a Stormshield Log Supervisorról! \nREGISZTRÁCIÓ
URL:https://relnet.hu/rendezveny/log-supervisor-a-visibility-center-helyett-stormshield-webinarium/
LOCATION:Virtuális rendezvény
CATEGORIES:Stormshield,Webinárium
ATTACH;FMTTYPE=image/png:https://relnet.hu/wp-content/uploads/2022/03/STR_WEB-min.png
END:VEVENT
END:VCALENDAR