BEGIN:VCALENDAR
VERSION:2.0
PRODID:-//RelNet Technológia Kft. - ECPv5.16.4//NONSGML v1.0//EN
CALSCALE:GREGORIAN
METHOD:PUBLISH
XXXXXXXXXXXXXXXXXXXXXXXXXXXXXXXXXXXXXX
XXXXXXXXXXXXXXXXXXXXXXXXXXXXXXXXX
XXXXXXXXXXXXXXXXXXXXXXXXXXXXXXXXXXXXXXXXXXXXXXXXX
BEGIN:VTIMEZONE
TZID:Europe/Budapest
BEGIN:DAYLIGHT
TZOFFSETFROM:+0100
TZOFFSETTO:+0200
TZNAME:CEST
DTSTART:20240331T010000
END:DAYLIGHT
BEGIN:STANDARD
TZOFFSETFROM:+0200
TZOFFSETTO:+0100
TZNAME:CET
DTSTART:20241027T010000
END:STANDARD
END:VTIMEZONE
BEGIN:VEVENT
DTSTART;TZID=Europe/Budapest:20241129T090000
DTEND;TZID=Europe/Budapest:20241129T120000
DTSTAMP:20260419T232901
CREATED:20241122T134736Z
LAST-MODIFIED:20241128T125148Z
UID:35913-1732870800-1732881600@relnet.hu
SUMMARY:ManageEngine Meetup Budapesten a NIS2 és a DORA keretrendszerekről döntéshozóknak
DESCRIPTION:Regisztráljon a ManageEngine és a RelNet közös szervezésű találkozójára\, amelyen NIS2 kötelezett és auditor szervezet képviselője egyaránt előadást tart! Az elsősorban döntéshozóknak és vezetőknek szánt szakmai eseményre november 29-én\, pénteken kerül sor a Rudas Bistróban. \nREGISZTRÁCIÓ\n\nIdőpont: 2024. november 29. (péntek) | 9:00-12:00 \nA találkozón nem csak arról lesz szó\, hogy miként hangolhatók össze a ManageEngine megoldásaival a kiberbiztonsági stratégiák\, illetve a NIS2 és DORA keretrendszerek\, hanem a NIS2 kötelezett Kontron\, mint informatikai integrátor\, továbbá a NIS2 auditor és DORA tanácsadó Alverad is hasznos tapasztalatokat és tanácsokat oszt meg a résztvevőkkel. \nManageEngine Breakfast Meetup: Aligning Cybersecurity Strategies to NIS2 and DORA \nNapirend: \n\n9:00-9:45 Regisztráció és reggeli\n9:45-9:50 Köszöntés\, Szabó Tamás (Director of Vendor Alliance Management\, RelNet)\n9:50-10:35 Kiberbiztonsági stratégiák kialakítása a NIS2-vel és a DORA-val összhangban\, Jagan Kumar P (Strategic Account Management\, ManageEngine)\n10:35-10:50 Felkészülés a NIS2-re: egy NIS2 kötelezett szervezet tapasztalatai\, Kis-Szabó András (Group CISO\, Kontron)\n10:50-11:05 NIS2 audit: tudtuk\, csak nem sejtettük… – Tanácsok egy NIS2 auditortól a NIS2-re való felkészülés vonatkozásában\, Hinkel Attila (CEO\, Alverad)\n11:05-11:15 Hogyan lehetnek a ManageEngine megoldások a szervezetek segítségére az egyes NIS2 követelménycsoportok kapcsán? (A RelNet munkatársának előadása)\n11:15-11:25 Kérdések és válaszok\n11:25-11:30 Összefoglaló beszéd\, Szabó Tamás (Director of Vendor Alliance Management\, RelNet)\n11:30-12:00 Kapcsolatépítés és kávézás\n\nTekintse meg a részleteket és regisztráljon az alábbi linken! \nREGISZTRÁCIÓ
URL:https://relnet.hu/rendezveny/manageengine-meetup-budapesten-a-nis2-es-a-dora-keretrendszerekrol-donteshozoknak/
LOCATION:Rudas Bistro\, Döbrentei Tér 9.\, Budapest\, 1013\, Magyarország
CATEGORIES:ManageEngine
ATTACH;FMTTYPE=image/jpeg:https://relnet.hu/wp-content/uploads/2024/11/MEBreakfastMeghivo-copy-min.jpg
END:VEVENT
END:VCALENDAR