BEGIN:VCALENDAR
VERSION:2.0
PRODID:-//RelNet Technológia Kft. - ECPv5.16.4//NONSGML v1.0//EN
CALSCALE:GREGORIAN
METHOD:PUBLISH
XXXXXXXXXXXXXXXXXXXXXXXXXXXXXXXXXXXXXX
XXXXXXXXXXXXXXXXXXXXXXXXXXXXXXXXX
XXXXXXXXXXXXXXXXXXXXXXXXXXXXXXXXXXXXXXXXXXXXXXXXX
BEGIN:VTIMEZONE
TZID:Europe/Budapest
BEGIN:DAYLIGHT
TZOFFSETFROM:+0100
TZOFFSETTO:+0200
TZNAME:CEST
DTSTART:20210328T010000
END:DAYLIGHT
BEGIN:STANDARD
TZOFFSETFROM:+0200
TZOFFSETTO:+0100
TZNAME:CET
DTSTART:20211031T010000
END:STANDARD
END:VTIMEZONE
BEGIN:VEVENT
DTSTART;TZID=Europe/Budapest:20210615T080000
DTEND;TZID=Europe/Budapest:20210615T084500
DTSTAMP:20260420T021935
CREATED:20210521T150027Z
LAST-MODIFIED:20210521T150027Z
UID:15446-1623744000-1623746700@relnet.hu
SUMMARY:ManageEngine újdonságok webináriumsorozat
DESCRIPTION:Hozza ki a legtöbbet az ADSelfService Plusból! \nIdőpont: 2021. június 15.  8:00 – 8:45 CEST \n\nImplementáljon feltételes hozzáféréseket olyan kockázati tényezők alapján\, mint a felhasználó IP-címe\, a hozzáférés időpontja vagy helyszíne.\nÉrvényesítsen többlépcsős autentikációt a VPN bejelentkezésekhez\, hogy megvédje a távolról dolgozó munkatársakat.\nFejlett jelszó házirend hibrid környezetekre.\nJavított\, kényelmesebb és hatékonyabb felhasználói felület.\n\nÉrtesüljön az ADAudit Plus legújabb funkcióiról! \nIdőpont: 2021. június 16. 8:00 – 8:45 CEST \n\nAuditálja könnyedén és valós időben Windows AD környezetét.\nAzonosítsa a fiókzárolások forrását.\nKapjon valós idejű riasztásokat\, amikor változás történik az AD konfigurációban.\nAuditáljon minden egyes változást a csoportházirend-objektumokon (GPO).\nHárítsa el a belső fenyegetéseket felhasználói viselkedéselemzéssel.\nFigyelje a Service Accountokat és tegyen jelentést róluk az AD környezetében.\n\nBiztonsági incidensek észlelésének és kivédésének javított képessége \nIdőpont: 2021. június 17. 8:00 – 8:45 CEST \n\nAuditálja a felhasználói VPN tevékenységet a VPN munkamenetfigyelő riportok segítségével.\nHasználjon fejlett korrelációs szabályokat az új zsarolóprogramok észlelésének érdekében.\nVadásszon proaktív módon a fenyegetésekre a fenyegetésanalitika implementálásával.\nHasználja ki a felhasználók és entitások viselkedéselemzésének (UEBA) új anomáliaészlelő képességét.\nFigyelje a fájlok integritását az új funkciók használatával.\nFISMA\, GPG\, GDPR\, CCPA megfelelés.\n\nAz ADManager Plus új funkciói: Ne maradjon le róluk! \nIdőpont: 2021. június 22. 8:00 – 8:45 CEST \nÚjra eljött az ideje annak\, hogy csatlakozzon a webináriumunkhoz és értesüljön a ManageEngine ADManager Plus legújabb funkcióiról és fejlesztéseiről\, amelyek tovább egyszerűsíthetik az Ön munkáját. Tudja meg\, hogyan használhatja ki a megoldást az Active Directory (AD)\, az Exchange és a Microsoft 365 hatékony menedzselésére és riportok generálására. \nTÉMÁK \n\nIntegráció az Ultipro és a BambooHR megoldásokkal az automatizált felhasználómenedzsment érdekében.\nGlobális keresési opció\, amivel bármilyen műveletre rá lehet keresni a segédeszközön belül.\nDinamikus szervezeti egységek (OU) létrehozása a tömeges user objektumok generálása közben.\nJavított funkciók a riportütemezőben.\nHelyszín alapú delegálás.\nHogyan adjuk hozzá a Microsoft 365 felhasználókat a Microsoft Teamshez és csatornákhoz a Microsoft 365 felhasználók regisztrációja során.\nAutomatizációk tetszőleges kikapcsolása\, bekapcsolása és törlése.\n\nJelentkezzen most!\n\n\nHozza ki a legtöbbet az ADSelfService Plusból!\n2021. június 15.  8:00 CEST (45 perc) \nÉrtesüljön az ADAudit Plus legújabb funkcióiról!\n2021. június 16.  8:00 CEST (45 perc) \nBiztonsági incidensek észlelésének és kivédésének javított képessége\n2021. június 17.  8:00 CEST (45 perc) \nAz ADManager Plus új funkciói: Ne maradjon le róluk!\n2021. június 22.  8:00 CEST (45) perc \nREGISZTRÁCIÓ\n\n  \n 
URL:https://relnet.hu/rendezveny/manageengine-ujdonsagok-webinariumsorozat/2021-06-15/
LOCATION:Virtuális rendezvény
CATEGORIES:ManageEngine
ATTACH;FMTTYPE=image/png:https://relnet.hu/wp-content/uploads/2021/05/ME_webinars-min.png
END:VEVENT
END:VCALENDAR