BEGIN:VCALENDAR
VERSION:2.0
PRODID:-//RelNet Technológia Kft. - ECPv5.16.4//NONSGML v1.0//EN
CALSCALE:GREGORIAN
METHOD:PUBLISH
XXXXXXXXXXXXXXXXXXXXXXXXXXXXXXXXXXXXXX
XXXXXXXXXXXXXXXXXXXXXXXXXXXXXXXXX
XXXXXXXXXXXXXXXXXXXXXXXXXXXXXXXXXXXXXXXXXXXXXXXXX
BEGIN:VTIMEZONE
TZID:Europe/Budapest
BEGIN:DAYLIGHT
TZOFFSETFROM:+0100
TZOFFSETTO:+0200
TZNAME:CEST
DTSTART:20240331T010000
END:DAYLIGHT
BEGIN:STANDARD
TZOFFSETFROM:+0200
TZOFFSETTO:+0100
TZNAME:CET
DTSTART:20241027T010000
END:STANDARD
END:VTIMEZONE
BEGIN:VEVENT
DTSTART;TZID=Europe/Budapest:20240626T170000
DTEND;TZID=Europe/Budapest:20240626T180000
DTSTAMP:20260420T025817
CREATED:20240624T122813Z
LAST-MODIFIED:20240624T122813Z
UID:34108-1719421200-1719424800@relnet.hu
SUMMARY:MI: Barát vagy ellenség? – SolarWinds webinárium
DESCRIPTION:Regisztráljon a SolarWinds webináriumára\, amely segít eligazodni az MI-forradalom labirintusában\, és felvértezi Önt az ehhez szükséges eszközökkel és forrásokkal. \nREGISZTRÁCIÓ\n\nIdőpont: 2024. június 26. (szerda) | 17:00-18:00 \nA mesterséges intelligencia és a gépi tanulás az elkövetkező években számos informatikai terület átalakulását ígéri. Bár rengeteg okunk van a lelkesedésre\, egy ilyen radikális változás a buktatókat sem nélkülözi. \nAz MI-vel kapcsolatos kihívások megértése érdekében ez a SolarWinds webinárium feltérképezi a jövő informatikáját. Az iparági vezetőkkel folytatott beszélgetések bemutatják az MI-használat optimalizálására vonatkozó stratégiákat\, és azonosítják az új technológia kockázatait is. \nTémák: \n\nKritikus tényezők\, amelyeket figyelembe kell venni az MI-technológiák kiválasztásakor\nAz MI kiberbiztonsági kockázatai\, beleértve a hackeléssel és a kibertámadásokkal szembeni sérülékenységet\nJogszabályi megfontolások az MI-technológiák bevezetésénél\nAIOps és fejlesztendő kulcsfontosságú informatikai képességek a szervezeten belül\n\nREGISZTRÁCIÓ
URL:https://relnet.hu/rendezveny/mi-barat-vagy-ellenseg-solarwinds-webinarium/
LOCATION:Virtuális rendezvény
CATEGORIES:SolarWinds
ATTACH;FMTTYPE=image/jpeg:https://relnet.hu/wp-content/uploads/2024/06/SOlarwindsMiBarat-min.jpg
END:VEVENT
END:VCALENDAR