BEGIN:VCALENDAR
VERSION:2.0
PRODID:-//RelNet Technológia Kft. - ECPv5.16.4//NONSGML v1.0//EN
CALSCALE:GREGORIAN
METHOD:PUBLISH
XXXXXXXXXXXXXXXXXXXXXXXXXXXXXXXXXXXXXX
XXXXXXXXXXXXXXXXXXXXXXXXXXXXXXXXX
XXXXXXXXXXXXXXXXXXXXXXXXXXXXXXXXXXXXXXXXXXXXXXXXX
BEGIN:VTIMEZONE
TZID:Europe/Budapest
BEGIN:DAYLIGHT
TZOFFSETFROM:+0100
TZOFFSETTO:+0200
TZNAME:CEST
DTSTART:20250330T010000
END:DAYLIGHT
BEGIN:STANDARD
TZOFFSETFROM:+0200
TZOFFSETTO:+0100
TZNAME:CET
DTSTART:20251026T010000
END:STANDARD
END:VTIMEZONE
BEGIN:VEVENT
DTSTART;TZID=Europe/Budapest:20251106T170000
DTEND;TZID=Europe/Budapest:20251106T180000
DTSTAMP:20260420T005359
CREATED:20251105T082913Z
LAST-MODIFIED:20251105T082913Z
UID:40018-1762448400-1762452000@relnet.hu
SUMMARY:MI-natív internetfelderítés és -elemzés a Censys platformmal
DESCRIPTION:Hogyan alakítja át a mesterséges intelligencia az internet monitorozását és a kitettségek feltérképezését? A Censys legújabb\, MI-vezérelt eszközei példa nélküli láthatóságot és kontrollt adnak a biztonsági csapatok és elemzők számára. \nREGISZTRÁCIÓ\n\nIdőpont: 2025. november 6. (csütörtök) | 17:00–18:00 \nTémák:\n\nPrediktív szkennelés: hogyan alkalmazkodik az Internet Map valós időben a globális változásokhoz\, követve minden IP-t\, hosztot\, szolgáltatást és webhelyet.\nTermészetes nyelvű keresés: kérdezzen bármely nyelven – nincs szükség lekérdezésszintaxisra.\nAgentic AI a gyakorlatban: beszélgetésalapú munkafolyamatok\, amelyek felgyorsítják a vizsgálatokat a Censys platformon.\nMI által támogatott lekérdezések.\nModel Control Protocol (MCP) szerverek: irányított hozzáférés globális internetes adatokhoz.\nCensys Assistant: beépített\, beszélgetésalapú MI\, amely felpörgeti az internetes incidensek vizsgálatát.
URL:https://relnet.hu/rendezveny/mi-nativ-internetfelderites-es-elemzes-a-censys-platformmal/
LOCATION:Virtuális rendezvény
CATEGORIES:Censys
ATTACH;FMTTYPE=image/jpeg:https://relnet.hu/wp-content/uploads/2025/11/CensysMInativ-min.jpg
END:VEVENT
END:VCALENDAR