BEGIN:VCALENDAR
VERSION:2.0
PRODID:-//RelNet Technológia Kft. - ECPv5.16.4//NONSGML v1.0//EN
CALSCALE:GREGORIAN
METHOD:PUBLISH
XXXXXXXXXXXXXXXXXXXXXXXXXXXXXXXXXXXXXX
XXXXXXXXXXXXXXXXXXXXXXXXXXXXXXXXX
XXXXXXXXXXXXXXXXXXXXXXXXXXXXXXXXXXXXXXXXXXXXXXXXX
BEGIN:VTIMEZONE
TZID:Europe/Budapest
BEGIN:DAYLIGHT
TZOFFSETFROM:+0100
TZOFFSETTO:+0200
TZNAME:CEST
DTSTART:20220327T010000
END:DAYLIGHT
BEGIN:STANDARD
TZOFFSETFROM:+0200
TZOFFSETTO:+0100
TZNAME:CET
DTSTART:20221030T010000
END:STANDARD
END:VTIMEZONE
BEGIN:VEVENT
DTSTART;TZID=Europe/Budapest:20221206T140000
DTEND;TZID=Europe/Budapest:20221206T153000
DTSTAMP:20260422T204253
CREATED:20221124T093740Z
LAST-MODIFIED:20221128T123222Z
UID:26239-1670335200-1670340600@relnet.hu
SUMMARY:Minden fenyegetés más – CYREBRO webinárium
DESCRIPTION:Csatlakozzon a RelNet által szervezett CYREBRO webináriumhoz\, amelyen a gyártó szakembere bemutatja a CYREBRO menedzselt SOC megoldás új\, frissített\, 2.0-ás platformját. \nTémák: \n\nRelNet bevezető\nCYREBRO SOC platform bemutatás\nCYREBRO online SOC 2.0 platform demó\nQ&A – Kérdések és válaszok\nCyrebro IR – Esettanulmány az incidensekre való válaszadásról\n\nIdőpont: 2022. december 6. (kedd) / 14.00-15.30 \nElőadók: \n\nGil Kdoshim\, EMEA Channel Manager\, CYREBRO\nEden Naggel\, DFIR Team Leader\, CYREBRO\n\nAz online rendezvényre viszonteladó partnereinket és végfelhasználóinkat egyaránt szeretettel várjuk. A webináriumon való részvételért 12 extra pontot írunk jóvá az eLearning rendszerünkben!
URL:https://relnet.hu/rendezveny/minden-fenyegetes-mas-cyrebro-webinarium/
LOCATION:Virtuális rendezvény
CATEGORIES:CYREBRO,Végfelhasználó,Viszonteladó
ATTACH;FMTTYPE=image/png:https://relnet.hu/wp-content/uploads/2022/11/Cyrebro_webinar-min.png
END:VEVENT
END:VCALENDAR