BEGIN:VCALENDAR
VERSION:2.0
PRODID:-//RelNet Technológia Kft. - ECPv5.16.4//NONSGML v1.0//EN
CALSCALE:GREGORIAN
METHOD:PUBLISH
XXXXXXXXXXXXXXXXXXXXXXXXXXXXXXXXXXXXXX
XXXXXXXXXXXXXXXXXXXXXXXXXXXXXXXXX
XXXXXXXXXXXXXXXXXXXXXXXXXXXXXXXXXXXXXXXXXXXXXXXXX
BEGIN:VTIMEZONE
TZID:Europe/Budapest
BEGIN:DAYLIGHT
TZOFFSETFROM:+0100
TZOFFSETTO:+0200
TZNAME:CEST
DTSTART:20190331T010000
END:DAYLIGHT
BEGIN:STANDARD
TZOFFSETFROM:+0200
TZOFFSETTO:+0100
TZNAME:CET
DTSTART:20191027T010000
END:STANDARD
END:VTIMEZONE
BEGIN:VEVENT
DTSTART;TZID=Europe/Budapest:20191210T190000
DTEND;TZID=Europe/Budapest:20191210T200000
DTSTAMP:20260420T043102
CREATED:20191205T160356Z
LAST-MODIFIED:20191205T162010Z
UID:4234-1576004400-1576008000@relnet.hu
SUMMARY:Nézzünk a vakfoltok mögé!
DESCRIPTION:A hálózati átláthatóság kiépítése\nKerekasztal beszélgetés – webinárium \nSzinte az összes internetes üzleti\, kommunikációs és adatforgalom titkosítva van. A szervezetek átalakítják működésüket\, migrálnak a felhőbe\, kibővítik a fióktelepeket és távoli munkaerőt használnak\, melynek következtében a titkosított forgalom átláthatatlanná válásával kibertámadásnak\, adatszivárgásnak és potenciális megfelelési hibáknak teszik ki a szervezetet. \nCsatlakozzon John Ramparthoz\, a Garland Technology rendszermérnökéhez és Babur Nawaz Khanhoz\, az A10 műszaki marketing mérnökéhez\, egy kerekasztal webináriumra\, melyen megvitatják a nem teljes körű biztonsági megoldás okozta kockázatokat valamint az SSL ellenőrzés előnyeit. \n\n\nJelentkezzen már most! \nArchitecting Visibility into Blind Spots through SSL Decryption\nPanel beszélgetés – webinárium\n2019. december 10. 19:00-20:00 CET \nREGISZTRÁCIÓ\n\n  \n  \nTovábbi információ:\nhttps://relnet.hu/gyartoink/?manufacturer_id=16 \nLetölthető anyagok:\nNetwork TAPs e-book: https://relnet.hu/download/3303/
URL:https://relnet.hu/rendezveny/nezzunk-a-vakfoltok-moge/
CATEGORIES:Garland Technologies,Gyártó,Végfelhasználó,Viszonteladó,Webinárium
ATTACH;FMTTYPE=image/png:https://relnet.hu/wp-content/uploads/2019/12/Webinar-2.png
END:VEVENT
END:VCALENDAR