BEGIN:VCALENDAR
VERSION:2.0
PRODID:-//RelNet Technológia Kft. - ECPv5.16.4//NONSGML v1.0//EN
CALSCALE:GREGORIAN
METHOD:PUBLISH
XXXXXXXXXXXXXXXXXXXXXXXXXXXXXXXXXXXXXX
XXXXXXXXXXXXXXXXXXXXXXXXXXXXXXXXX
XXXXXXXXXXXXXXXXXXXXXXXXXXXXXXXXXXXXXXXXXXXXXXXXX
BEGIN:VTIMEZONE
TZID:Europe/Budapest
BEGIN:DAYLIGHT
TZOFFSETFROM:+0100
TZOFFSETTO:+0200
TZNAME:CEST
DTSTART:20210328T010000
END:DAYLIGHT
BEGIN:STANDARD
TZOFFSETFROM:+0200
TZOFFSETTO:+0100
TZNAME:CET
DTSTART:20211031T010000
END:STANDARD
END:VTIMEZONE
BEGIN:VEVENT
DTSTART;TZID=Europe/Budapest:20211214T100000
DTEND;TZID=Europe/Budapest:20211214T105000
DTSTAMP:20260420T033429
CREATED:20211206T143340Z
LAST-MODIFIED:20211207T094833Z
UID:19287-1639476000-1639479000@relnet.hu
SUMMARY:NNT – Gyártói bemutató és a File Integrity Monitoring megoldás – Élő webinárium
DESCRIPTION:Soron következő élő webináriumunkon bemutatjuk a RelNet gyártói portfóliójának legújabb tagját\, a New Net Technologiest\, amely kiberbiztonsági és megfelelőségi szoftvereket fejleszt vállalatok és kormányzati szervezetek számára. Az NNT-t olyan nagy cégek választottak\, mint például a Wizz Air\, az Accenture\, a Vodafone\, az IDB Bank\, a Deluxe\, a PayPoint vagy a BNP Paribas.  \nAz NNT File Integrity Monitoring intelligens változáskövető megoldása felügyeli az operációs rendszerekhez és alkalmazásokhoz tartozó állományokon végrehajtott változásokat. A fájlok integritásának követésével észlelhetők és megelőzhetők a kártékony vagy jogosulatlan aktivitások\, ami biztonsági és megfelelőségi szempontból is jelentős mértékben segíti az IT-csapatok munkáját. \nTémák: \n\nAlapinformációk az NNT-ről\nAz NNT értékajánlata\nAz NNT megoldásai által kezelt kihívások\nAz NNT technológiájának előnyei\nKérdések\n\nElőadó:  \nJames Seaton\, Regional Sales Manager – EMEA\, NNT \nIdőpont:  \n2021. december 14. (kedd)\, 10:00-10:50 CET \nRegisztráljon most! \nAz eseményre az oldalon történő regisztráció/bejelentkezés után tud jelentkezni. \nAz eseményen való részvételért a RelNet eLearning programjában 12 extra pontot adunk. \nKapcsolódó tartalom\nNNT gyártói oldal
URL:https://relnet.hu/rendezveny/nnt-gyartoi-bemutato-es-a-file-integrity-monitoring-megoldas-elo-webinarium/
LOCATION:Virtuális rendezvény
CATEGORIES:NNT,Rendezvény,Viszonteladó,Webinárium
ATTACH;FMTTYPE=image/png:https://relnet.hu/wp-content/uploads/2021/12/Webinarium-min-1.png
END:VEVENT
END:VCALENDAR