BEGIN:VCALENDAR
VERSION:2.0
PRODID:-//RelNet Technológia Kft. - ECPv5.16.4//NONSGML v1.0//EN
CALSCALE:GREGORIAN
METHOD:PUBLISH
XXXXXXXXXXXXXXXXXXXXXXXXXXXXXXXXXXXXXX
XXXXXXXXXXXXXXXXXXXXXXXXXXXXXXXXX
XXXXXXXXXXXXXXXXXXXXXXXXXXXXXXXXXXXXXXXXXXXXXXXXX
BEGIN:VTIMEZONE
TZID:Europe/Budapest
BEGIN:DAYLIGHT
TZOFFSETFROM:+0100
TZOFFSETTO:+0200
TZNAME:CEST
DTSTART:20260329T010000
END:DAYLIGHT
BEGIN:STANDARD
TZOFFSETFROM:+0200
TZOFFSETTO:+0100
TZNAME:CET
DTSTART:20261025T010000
END:STANDARD
END:VTIMEZONE
BEGIN:VEVENT
DTSTART;TZID=Europe/Budapest:20260113T150000
DTEND;TZID=Europe/Budapest:20260113T153000
DTSTAMP:20260420T033407
CREATED:20260107T145021Z
LAST-MODIFIED:20260107T145021Z
UID:40923-1768316400-1768318200@relnet.hu
SUMMARY:OPENVAS REPORT: A sérülékenységkezelés következő generációja
DESCRIPTION:Tartsa kézben informatikai eszközeit és azok sérülékenységeit! Az OPENVAS REPORT átláthatóan összesíti a szkennelési adatokat\, és még a legösszetettebb környezetekben is segít a kockázatok rangsorolásában. \nREGISZTRÁCIÓ\n\nIdőpont: 2026. január 13.\, kedd | 15:00–15:30 \nTémák: \n\nGyors áttekintés a kockázatokról és a legújabb trendekről.\nA különböző helyekről származó szkennelések központi összesítése.\nPraktikus tippek a hatékony kockázati prioritások felállításához.\n\nA Greenbone szakértői 30 percben bemutatják\, hogyan csökkentheti mérhetően a biztonsági kockázatokat. \nFIGYELEM! A regisztrációs oldalon további 3 időpont is elérhető!
URL:https://relnet.hu/rendezveny/openvas-report-a-serulekenysegkezeles-kovetkezo-generacioja/
LOCATION:Virtuális rendezvény
CATEGORIES:Greenbone
ATTACH;FMTTYPE=image/jpeg:https://relnet.hu/wp-content/uploads/2026/01/GreenboneOPENVAS-min.jpg
END:VEVENT
END:VCALENDAR