BEGIN:VCALENDAR
VERSION:2.0
PRODID:-//RelNet Technológia Kft. - ECPv5.16.4//NONSGML v1.0//EN
CALSCALE:GREGORIAN
METHOD:PUBLISH
XXXXXXXXXXXXXXXXXXXXXXXXXXXXXXXXXXXXXX
XXXXXXXXXXXXXXXXXXXXXXXXXXXXXXXXX
XXXXXXXXXXXXXXXXXXXXXXXXXXXXXXXXXXXXXXXXXXXXXXXXX
BEGIN:VTIMEZONE
TZID:Europe/Budapest
BEGIN:DAYLIGHT
TZOFFSETFROM:+0100
TZOFFSETTO:+0200
TZNAME:CEST
DTSTART:20230326T010000
END:DAYLIGHT
BEGIN:STANDARD
TZOFFSETFROM:+0200
TZOFFSETTO:+0100
TZNAME:CET
DTSTART:20231029T010000
END:STANDARD
END:VTIMEZONE
BEGIN:VEVENT
DTSTART;TZID=Europe/Budapest:20230531T150000
DTEND;TZID=Europe/Budapest:20230531T160000
DTSTAMP:20260422T193424
CREATED:20230531T085908Z
LAST-MODIFIED:20230531T085908Z
UID:29476-1685545200-1685548800@relnet.hu
SUMMARY:OT-biztonság a WALLIX-szal és a Nozomival – Webinárium
DESCRIPTION:Vegyen részt a WALLIX webináriumán\, és fedezze fel\, hogyan hozható létre átfogó biztonság az ipari hálózatokon a WALLIX és a Nozomi Networks OT-biztonsági megoldásainak kombinálásával! \nREGISZTRÁCIÓ\n\n  \nIdőpont: 2023. május 31. (szerda) | 15:00 \nAz OT-környezetek egyre gyakrabban válnak kiberbűnözők célpontjaivá. Az OT-infrastruktúra megtámadása súlyos következményekkel járhat\, beleértve a pénzügyi veszteséget\, a termelés leállását\, de veszélyeztetheti akár az emberek biztonságát is. Az ipari környezetek ellenállóképessége érdekében elengedhetetlen az átfogó biztonsági stratégia. \nTémák: \n\nA Nozomi Networks és az security by WALLIX megoldások bemutatása\nHogyan védhetők meg hatékonyan az OT-környezetek a biztonságos távoli hozzáféréssel\, valamint a fenyegetések felderítésével\, elemzésével és kiértékelésével?\nHogyan biztosíthat a két egymást kiegészítő megoldás egyedülálló\, nyomozati szintű elemzést kompromittálódás esetén?\nFelhasználási esetek a hozzáférések nyomon követéséről\, az onboardingról stb.\n\nAz OT.security by WALLIX és a Nozomi Networks megoldásainak egyszerűségét és erejét kihasználva a szervezetek biztonságos és üzembiztos termelési környezetet valósíthatnak meg. \n 
URL:https://relnet.hu/rendezveny/ot-biztonsag-a-wallix-szal-es-a-nozomival-webinarium/
LOCATION:Virtuális rendezvény
CATEGORIES:WALLIX
ATTACH;FMTTYPE=image/jpeg:https://relnet.hu/wp-content/uploads/2023/05/Wallix_ot_biztonsag_webinarium-min.jpg
END:VEVENT
END:VCALENDAR