BEGIN:VCALENDAR
VERSION:2.0
PRODID:-//RelNet Technológia Kft. - ECPv5.16.4//NONSGML v1.0//EN
CALSCALE:GREGORIAN
METHOD:PUBLISH
XXXXXXXXXXXXXXXXXXXXXXXXXXXXXXXXXXXXXX
XXXXXXXXXXXXXXXXXXXXXXXXXXXXXXXXX
XXXXXXXXXXXXXXXXXXXXXXXXXXXXXXXXXXXXXXXXXXXXXXXXX
BEGIN:VTIMEZONE
TZID:Europe/Budapest
BEGIN:DAYLIGHT
TZOFFSETFROM:+0100
TZOFFSETTO:+0200
TZNAME:CEST
DTSTART:20190331T010000
END:DAYLIGHT
BEGIN:STANDARD
TZOFFSETFROM:+0200
TZOFFSETTO:+0100
TZNAME:CET
DTSTART:20191027T010000
END:STANDARD
END:VTIMEZONE
BEGIN:VEVENT
DTSTART;TZID=Europe/Budapest:20191204T093000
DTEND;TZID=Europe/Budapest:20191204T100000
DTSTAMP:20260419T230800
CREATED:20191129T135636Z
LAST-MODIFIED:20191129T143156Z
UID:4179-1575451800-1575453600@relnet.hu
SUMMARY:Panda online modul bemutató
DESCRIPTION:A Panda Security Magyarország online bemutatót tart az év végi akcióban szereplő Panda biztonsági modulokról.\nIsmerje meg Patch Management és a Full Encryption modulokat közelebbről! \nA Panda Patch Management modul segítséget nyújt a Windows számítógépeken és szervereken leggyakrabban alkalmazott szoftverek biztonsági réseinek felismerésére és javítására. \nA Panda Full Encryption célja a BitLocker teljes lemez titkosításának a központi kezelése\, kiegészítő modul a Panda Security végpontvédelméhez és a fejlett Adaptive biztonsági megoldásokhoz. \nA 30 perces online bemutató során bepillantást nyerhet hogyan egészíti ki a meglévő végpontvédelmet a Panda Security ezen két modulja. \n\n\nJelentkezzen már most! \nPanda év végi modul akció – ismerje meg az akcióban résztvevő biztonsági modulokat \nÉlő bemutató \n2019. december 4. 9:30-10:00 CET \nREGISZTRÁCIÓ\n\nKapcsolódó hír:\nÉv végi Panda modul akció \nÉrvényes: 2019. december 31-ig.
URL:https://relnet.hu/rendezveny/panda-online-modul-bemutato-2/
CATEGORIES:Gyártó,Oktatás,Panda Security,Rendezvény,Végfelhasználó,Viszonteladó,Webinárium
ATTACH;FMTTYPE=image/png:https://relnet.hu/wp-content/uploads/2019/11/6.png
END:VEVENT
END:VCALENDAR