BEGIN:VCALENDAR
VERSION:2.0
PRODID:-//RelNet Technológia Kft. - ECPv5.16.4//NONSGML v1.0//EN
CALSCALE:GREGORIAN
METHOD:PUBLISH
XXXXXXXXXXXXXXXXXXXXXXXXXXXXXXXXXXXXXX
XXXXXXXXXXXXXXXXXXXXXXXXXXXXXXXXX
XXXXXXXXXXXXXXXXXXXXXXXXXXXXXXXXXXXXXXXXXXXXXXXXX
BEGIN:VTIMEZONE
TZID:Europe/Budapest
BEGIN:DAYLIGHT
TZOFFSETFROM:+0100
TZOFFSETTO:+0200
TZNAME:CEST
DTSTART:20190331T010000
END:DAYLIGHT
BEGIN:STANDARD
TZOFFSETFROM:+0200
TZOFFSETTO:+0100
TZNAME:CET
DTSTART:20191027T010000
END:STANDARD
END:VTIMEZONE
BEGIN:VEVENT
DTSTART;TZID=Europe/Budapest:20190326T090000
DTEND;TZID=Europe/Budapest:20190326T130000
DTSTAMP:20260420T015030
CREATED:20190311T144323Z
LAST-MODIFIED:20190328T134930Z
UID:1787-1553590800-1553605200@relnet.hu
SUMMARY:Panda Security workshop
DESCRIPTION:Ismerje meg legújabb gyártónk\, a Panda Security termékeit első kézből! \nAz átfogó előadás során nemcsak piaci áttekintést\, de gyakorlati bemutatót is kap a Panda megoldásairól.\nElőadó: Bardócz Gyula – Panda Security Hungary Kereskedelmi Vezetője \nA Panda workshop tematikája: \n\nPiaci trendek\, információk\nPanda portfólió ismertetése\nPanda termékek bemutatása (konzol\, beállítások\, funkciók)\n\nPanda Endpoint Protection/Adaptive Defense \nKiegészítő modulok: \n\nPatch Management\nAdvanced Reporting Tool\nData Control\n\nPanda Systems Management (távüzemeltetés) \nTudja meg miért ad magasabb fokú biztonságot az Adaptive Defense EDR technológia!\nRegisztráljon még ma a Panda workshopra! \nViszonteladóinknak ingyenes részvételi lehetőséget biztosítunk\, amihez előzetes regisztráció szükséges!\nA férőhelyek száma korlátozott\, a regisztrációt a jelentkezés sorrendjében tudjuk elfogadni!\nAz előadás magyar nyelvű.\nA workshop 9:00-től 13:00-ig tart. \nIdőpont: 2019. március 26.\nHelyszín: Az oktatás helyszíne a RelNet oktatóterme\nCím: 1047 Budapest\, Váci út 71. – Az épület és az udvar bejárata is a Perényi Zsigmond utcáról nyílik.\nParkolás: Díjmentes a belső udvaron és a környező utcákban is.
URL:https://relnet.hu/rendezveny/panda_workshop/
LOCATION:RelNet konferencia terem\, Váci út 71.\, Budapest\, 1047\, Magyarország
CATEGORIES:Gyártó,Oktatás,Panda Security,Rendezvény,Viszonteladó
ATTACH;FMTTYPE=image/png:https://relnet.hu/wp-content/uploads/2019/03/Panda-ws.png
GEO:47.572774139773;19.081058942328
X-APPLE-STRUCTURED-LOCATION;VALUE=URI;X-ADDRESS=RelNet konferencia terem Váci út 71. Budapest 1047 Magyarország;X-APPLE-RADIUS=500;X-TITLE=Váci út 71.:geo:19.081058942328,47.572774139773
END:VEVENT
END:VCALENDAR