BEGIN:VCALENDAR
VERSION:2.0
PRODID:-//RelNet Technológia Kft. - ECPv5.16.4//NONSGML v1.0//EN
CALSCALE:GREGORIAN
METHOD:PUBLISH
XXXXXXXXXXXXXXXXXXXXXXXXXXXXXXXXXXXXXX
XXXXXXXXXXXXXXXXXXXXXXXXXXXXXXXXX
XXXXXXXXXXXXXXXXXXXXXXXXXXXXXXXXXXXXXXXXXXXXXXXXX
BEGIN:VTIMEZONE
TZID:Europe/Budapest
BEGIN:DAYLIGHT
TZOFFSETFROM:+0100
TZOFFSETTO:+0200
TZNAME:CEST
DTSTART:20220327T010000
END:DAYLIGHT
BEGIN:STANDARD
TZOFFSETFROM:+0200
TZOFFSETTO:+0100
TZNAME:CET
DTSTART:20221030T010000
END:STANDARD
END:VTIMEZONE
BEGIN:VEVENT
DTSTART;TZID=Europe/Budapest:20220222T093000
DTEND;TZID=Europe/Budapest:20220222T100000
DTSTAMP:20260420T043338
CREATED:20220214T085316Z
LAST-MODIFIED:20220214T085316Z
UID:20452-1645522200-1645524000@relnet.hu
SUMMARY:Pentera – Az automatikus biztonsági validáció esetei (Élő műszaki webinárium)
DESCRIPTION:Hallgassa meg\, amint Shakel Ahmed\, a Pentera biztonsági mérnöke tényleges felhasználási eseteket mutat be\, amelyek során: \n\ncsökkennek a manuális feladatok miatti folyamatos késések és backlogok\,\nmegszűnnek a biztonsági csapat erőforráskorlátai\,\njavul a tesztelés\, észlelés és helyreállítás pontossága.\n\nAz automatizált biztonsági validáció lehetővé teszi a felmerülő sérülékenységek proaktív kiértékelését\, kezelését és riportolását\, a lehető legjobbkor – amikor a legnagyobb kárt lehet okozni az adott sebezhetőség kihasználásával. A kockázatok csupán CVSS pontszám szerinti rangsorolása már a múlté! \nA félórásra tervezett webinárium során az előadó az első 20 percben technológiai szemszögből mutatja be a felhasználási eseteket\, majd a rákövetkező 10 percben kérdésekre válaszol. \nIdőpont: 2022. február 22. (kedd) – 9:30-10:00 CET \nREGISZTRÁCIÓ
URL:https://relnet.hu/rendezveny/pentera-az-automatikus-biztonsagi-validacio-esetei-elo-muszaki-webinarium/
LOCATION:Virtuális rendezvény
CATEGORIES:Pentera,Webinárium
ATTACH;FMTTYPE=image/png:https://relnet.hu/wp-content/uploads/2022/02/HUN-min.png
END:VEVENT
END:VCALENDAR