BEGIN:VCALENDAR
VERSION:2.0
PRODID:-//RelNet Technológia Kft. - ECPv5.16.4//NONSGML v1.0//EN
CALSCALE:GREGORIAN
METHOD:PUBLISH
XXXXXXXXXXXXXXXXXXXXXXXXXXXXXXXXXXXXXX
XXXXXXXXXXXXXXXXXXXXXXXXXXXXXXXXX
XXXXXXXXXXXXXXXXXXXXXXXXXXXXXXXXXXXXXXXXXXXXXXXXX
BEGIN:VTIMEZONE
TZID:Europe/Budapest
BEGIN:DAYLIGHT
TZOFFSETFROM:+0100
TZOFFSETTO:+0200
TZNAME:CEST
DTSTART:20230326T010000
END:DAYLIGHT
BEGIN:STANDARD
TZOFFSETFROM:+0200
TZOFFSETTO:+0100
TZNAME:CET
DTSTART:20231029T010000
END:STANDARD
END:VTIMEZONE
BEGIN:VEVENT
DTSTART;TZID=Europe/Budapest:20230202T170000
DTEND;TZID=Europe/Budapest:20230202T180000
DTSTAMP:20260420T015213
CREATED:20230126T154725Z
LAST-MODIFIED:20230126T160929Z
UID:27097-1675357200-1675360800@relnet.hu
SUMMARY:A LoadMaster terheléselosztók a többfelhős biztonsági stratégiákban
DESCRIPTION:Hogyan támogatják a Progress Kemp terheléselosztó eszközei az ügyfelek hibrid és multifelhős biztonsági stratégiáját. \nREGISZTRÁCIÓ\n\nAz Enterprise Management Associates piacelemző és tanácsadó cég friss kutatása szerint az IT-biztonsági csapatok 89%-a a terheléselosztást és az ADC-ket az átfogó biztonsági architektúra fontos részeinek tekinti\, mert kritikus funkciókkal segítik az alkalmazások védelmét. Ebben a webináriumban a Progress Kemp bemutatja a szervezetek előtt álló biztonsági kihívásokat\, és azt\, hogy a LoadMaster terheléselosztók hogyan tudnak ezeknek a kihívásoknak megfelelni. A résztvevők az említett EMA tanulmány teljes példányát is megkapják. \nElőadó: Kurt Jung\, termékmenedzser\, Progress \nIdőpont: 2023. február 2. (csütörtök) / 17:00 – 18:00 CET \nA fenti REGISZTRÁCIÓ gombra kattintva átirányítjuk a virtuális rendezvény weboldalára\, amelyre egy rövid űrlap kitöltésével tud jelentkezni.
URL:https://relnet.hu/rendezveny/progress-kemp-webinarium-a-loadmaster-terheleselosztok-a-tobbfelhos-biztonsagi-strategiakban/
LOCATION:Virtuális rendezvény
CATEGORIES:Kemp,Webinárium
ATTACH;FMTTYPE=image/jpeg:https://relnet.hu/wp-content/uploads/2023/01/Kemp_LoadMaster_webinar_HU_pics-min.jpg
END:VEVENT
END:VCALENDAR