BEGIN:VCALENDAR
VERSION:2.0
PRODID:-//RelNet Technológia Kft. - ECPv5.16.4//NONSGML v1.0//EN
CALSCALE:GREGORIAN
METHOD:PUBLISH
XXXXXXXXXXXXXXXXXXXXXXXXXXXXXXXXXXXXXX
XXXXXXXXXXXXXXXXXXXXXXXXXXXXXXXXX
XXXXXXXXXXXXXXXXXXXXXXXXXXXXXXXXXXXXXXXXXXXXXXXXX
BEGIN:VTIMEZONE
TZID:Europe/Budapest
BEGIN:DAYLIGHT
TZOFFSETFROM:+0100
TZOFFSETTO:+0200
TZNAME:CEST
DTSTART:20250330T010000
END:DAYLIGHT
BEGIN:STANDARD
TZOFFSETFROM:+0200
TZOFFSETTO:+0100
TZNAME:CET
DTSTART:20251026T010000
END:STANDARD
END:VTIMEZONE
BEGIN:VEVENT
DTSTART;TZID=Europe/Budapest:20250124T100000
DTEND;TZID=Europe/Budapest:20250124T110000
DTSTAMP:20260419T230936
CREATED:20250110T075704Z
LAST-MODIFIED:20250110T075704Z
UID:36354-1737712800-1737716400@relnet.hu
SUMMARY:Progress Kemp webinárium - Adaptív terheléselosztás és hozzáférés-szabályozás
DESCRIPTION:Csatlakozzon a Progress Kemp legújabb LoadMaster webináriumához! \nREGISZTRÁCIÓ\n\nIdőpont: 2025. január 24. (péntek) | 10:00 \nTémák: \n\nAdaptív terheléselosztás – A LoadMaster a CPU\, a RAM\, a merevlemez használata vagy állapota alapján dönthet egy szerver súlyozásáról vagy akár a lekapcsolásáról.\nHozzáférés-szabályozási lehetőségek – Hogyan szabályozza a LoadMaster a hozzáférést a futó alkalmazásokhoz?\n\nElőadó: Renard Schoepfel\, EMEA vezető értékesítési mérnök
URL:https://relnet.hu/rendezveny/progress-kemp-webinarium-adaptiv-terheleselosztas-es-hozzaferes-szabalyozas/
LOCATION:Virtuális rendezvény
CATEGORIES:Kemp,Progress
ATTACH;FMTTYPE=image/jpeg:https://relnet.hu/wp-content/uploads/2025/01/ProgressKempSzabalyozas-min.jpg
END:VEVENT
END:VCALENDAR