BEGIN:VCALENDAR
VERSION:2.0
PRODID:-//RelNet Technológia Kft. - ECPv5.16.4//NONSGML v1.0//EN
CALSCALE:GREGORIAN
METHOD:PUBLISH
XXXXXXXXXXXXXXXXXXXXXXXXXXXXXXXXXXXXXX
XXXXXXXXXXXXXXXXXXXXXXXXXXXXXXXXX
XXXXXXXXXXXXXXXXXXXXXXXXXXXXXXXXXXXXXXXXXXXXXXXXX
BEGIN:VTIMEZONE
TZID:Europe/Budapest
BEGIN:DAYLIGHT
TZOFFSETFROM:+0100
TZOFFSETTO:+0200
TZNAME:CEST
DTSTART:20260329T010000
END:DAYLIGHT
BEGIN:STANDARD
TZOFFSETFROM:+0200
TZOFFSETTO:+0100
TZNAME:CET
DTSTART:20261025T010000
END:STANDARD
END:VTIMEZONE
BEGIN:VEVENT
DTSTART;TZID=Europe/Budapest:20260129T160000
DTEND;TZID=Europe/Budapest:20260129T170000
DTSTAMP:20260419T204359
CREATED:20260108T101538Z
LAST-MODIFIED:20260108T101538Z
UID:40943-1769702400-1769706000@relnet.hu
SUMMARY:Progress Kemp webinárium: WAF az alapoktól a haladó szintig
DESCRIPTION:A „WAF Essentials Unlocked” webináriumon a Progress Kemp szakértői előadást tartanak a WAF legjobb gyakorlatairól\, és megmutatják\, miként érhető el optimális védelem a teljes infrastruktúrán. \nREGISZTRÁCIÓ\n\nIdőpont: 2026. január 29. (csütörtök) | 16:00-17:00 \nAz IT-csapatoknak fel kell készülniük minden váratlan helyzetre\, különösen\, ha webes alkalmazások elleni támadásokról van szó. Napjaink fenyegetettségi környezetében a webalkalmazás-tűzfal (WAF) alkalmazása már nem opció\, hanem alapvető szükséglet\, mivel a webes alkalmazások elleni támadások folyamatosan fejlődnek. Ez óriási nyomást gyakorol az informatikai csapatokra\, hiszen a dinamikus\, elosztott és hibrid környezeteket úgy kell megvédeniük\, hogy közben ne növeljék az üzemeltetési komplexitást. \nBár a modern WAF az alkalmazásrétegű biztonság alapköve\, sok szervezet még mindig küzd a képességek teljes kihasználásával\, a szabályok finomhangolásával\, vagy azzal\, hogy miként illessze a WAF-ot egy tágabb Zero Trust stratégiába. \nA webinárium célja\, hogy a résztvevők elmélyítsék tudásukat a WAF helyes telepítésével\, konfigurálásával és optimalizálásával kapcsolatban. \nFőbb témák: \n\nLáthatóság: Hogyan érhet el kritikus betekintést az alkalmazásrétegbe a mai támadási környezetben?\nFejlett védelem: Hatékonyabb fellépés az OWASP Top 10 fenyegetések\, bot-támadások\, API-támadások\, DDoS-hatások\, SQL-injekciók és Cross-Site Scripting (XSS) ellen.\nÜzemeltetés: Szabályalkotás\, téves riasztások kezelése\, naplózás\, riasztások beállítása\, SSL-vizsgálat és hatékony szabályzatkezelés.
URL:https://relnet.hu/rendezveny/progress-kemp-webinarium-waf-az-alapoktol-a-halado-szintig/
LOCATION:Virtuális rendezvény
CATEGORIES:Kemp,Progress
ATTACH;FMTTYPE=image/jpeg:https://relnet.hu/wp-content/uploads/2026/01/ProgressKempWAF-min.jpg
END:VEVENT
END:VCALENDAR