BEGIN:VCALENDAR
VERSION:2.0
PRODID:-//RelNet Technológia Kft. - ECPv5.16.4//NONSGML v1.0//EN
CALSCALE:GREGORIAN
METHOD:PUBLISH
XXXXXXXXXXXXXXXXXXXXXXXXXXXXXXXXXXXXXX
XXXXXXXXXXXXXXXXXXXXXXXXXXXXXXXXX
XXXXXXXXXXXXXXXXXXXXXXXXXXXXXXXXXXXXXXXXXXXXXXXXX
BEGIN:VTIMEZONE
TZID:Europe/Budapest
BEGIN:DAYLIGHT
TZOFFSETFROM:+0100
TZOFFSETTO:+0200
TZNAME:CEST
DTSTART:20200329T010000
END:DAYLIGHT
BEGIN:STANDARD
TZOFFSETFROM:+0200
TZOFFSETTO:+0100
TZNAME:CET
DTSTART:20201025T010000
END:STANDARD
END:VTIMEZONE
BEGIN:VEVENT
DTSTART;TZID=Europe/Budapest:20200326T170000
DTEND;TZID=Europe/Budapest:20200326T180000
DTSTAMP:20260420T123203
CREATED:20200325T065116Z
LAST-MODIFIED:20200325T070524Z
UID:5388-1585242000-1585245600@relnet.hu
SUMMARY:Pulse Secure távoli hozzáférési megoldások és a versenyképesség összefüggéseinek áttekintése
DESCRIPTION:Manapság sajnos olyan világban élünk\, ahol a természet és az ember okozta katasztrófák is előfordulnak. \nA Pulse Secure segíthet a vállalkozások folyamatos üzletmenetének fenntartásában\, hogy mindenki az igazán fontos dolgokra – az alkalmazottak\, a barátok és a család biztonságára – összpontosíthasson. \nCsatlakozzon március 26-án a Pulse Secure webináriumához és tudja meg\, hogy mit tehet a Pulse Connect Secure az Ön és az ügyfelei termelékenységének megőrzése és biztonsága érdekében. \nOlyan kulcsfontosságú funkciókat mutatnak be\, mint \n\na kliens nélküli hozzáférés\,\na több faktoros hitelesítés\,\naz egyszeri bejelentkezéssel történő azonosítás (SSO)\, és\na vészhelyzet esetére (ICE) megalkotott licencelési mód.\n\nIsmerje meg a Pulse Secure megoldását\, hogyan biztosít ICE\, miközben könnyű\, egyszerű és következetes kezelhetőségével kiváló felhasználói élményt nyújt akár a mobil eszközökön\, a laptopokon és az asztali számítógépeken\, azoknak a helyétől függetlenül. \n\nElőadó: Bryan Embrey\, Sr. Product Marketing Manager\, Pulse Secure \n\n\nJelentkezzen most!\nPulse Secure Remote Access Solutions & Competitive Review\nPartner webinárium\n2020. március 26. 17:00-18:00 CET \nREGISZTRÁCIÓ\n\n  \nKapcsolódó tartalom:\nHatártalan védelem a Pulse Secure-ral \nHow to Make Zero Trust Security Work\nOn demand Webinárium
URL:https://relnet.hu/rendezveny/pulse-secure-tavoli-hozzaferesi-megoldasok-es-a-versenykepesseg-osszefuggeseinek-attekintese/
CATEGORIES:Pulse Secure,Viszonteladó,Webinárium
ATTACH;FMTTYPE=image/png:https://relnet.hu/wp-content/uploads/2020/03/Pulse.png
END:VEVENT
END:VCALENDAR