BEGIN:VCALENDAR
VERSION:2.0
PRODID:-//RelNet Technológia Kft. - ECPv5.16.4//NONSGML v1.0//EN
CALSCALE:GREGORIAN
METHOD:PUBLISH
XXXXXXXXXXXXXXXXXXXXXXXXXXXXXXXXXXXXXX
XXXXXXXXXXXXXXXXXXXXXXXXXXXXXXXXX
XXXXXXXXXXXXXXXXXXXXXXXXXXXXXXXXXXXXXXXXXXXXXXXXX
BEGIN:VTIMEZONE
TZID:Europe/Budapest
BEGIN:DAYLIGHT
TZOFFSETFROM:+0100
TZOFFSETTO:+0200
TZNAME:CEST
DTSTART:20220327T010000
END:DAYLIGHT
BEGIN:STANDARD
TZOFFSETFROM:+0200
TZOFFSETTO:+0100
TZNAME:CET
DTSTART:20221030T010000
END:STANDARD
END:VTIMEZONE
BEGIN:VEVENT
DTSTART;TZID=Europe/Budapest:20220810T103000
DTEND;TZID=Europe/Budapest:20220810T113000
DTSTAMP:20260419T232729
CREATED:20220808T113008Z
LAST-MODIFIED:20220808T113008Z
UID:24067-1660127400-1660131000@relnet.hu
SUMMARY:Radware/Skyhawk Cloud Native Protector webinárium
DESCRIPTION:A Radware/Skyhawk “agent” nélküli\, felhőnatív megoldás teljes biztonságot kínál az Amazon Web Services (AWS) és a Microsoft Azure környezetekben futó munkafolyamatok számára a felhőnatív fenyegetések és támadások ellen.  \nA felhőbe történő átállás esetenként az IT erőforrások láthatóságának és kezelhetőségének a csökkenésével is járhat. A felhőben szolgáltatott munkafolyamatok távoli kezelése megnehezítheti az IT biztonsági csapatok számára a hozzáférések és az érzékeny felhőalapú erőforrások ellenőrzését. Számos szervezetben okozhat problémát a téves felhőkonfiguráció\, illetve a kibertámadások azonosítása és időben történő elhárítása. \nA Cloud Native Protector szolgáltatás megerősíti a szervezetek biztonsági helyzetét (Cloud Security Posture Management\, azaz CSPM) azáltal\, hogy megfelelőségi jelentéseket készít\, és figyelmeztetéseket küld a téves vagy hibás konfigurációkról\, illetve a túlzott jogosultságokról (Cloud Infrastructure Entitlement Management\, azaz CIEM). Továbbá észleli a rosszindulatú tevékenységeket is\, központi láthatóságot és kezelést tesz lehetővé\, majd az észlelést követően azonnal reagál a támadásokra (Cloud Threat Detection & Response\, azaz CTDR). \nTémák:   \n\nBiztonsági kihívások a publikus felhőben\nTöbbfelhős (multi-cloud) védelem a Cloud Native Protectorral (CSPM\, CIEM\, CTDR)\, valódi esetek bemutatásával\nÉlő demó\n\nIdőpont: 2022. augusztus 10. (szerda)\, 10:30 – 11:30 \nElőadók: Thomas Gressot (Solution Architect)\, Neil Foxley (Head of Channel and Alliances) \nTovábbi információk a megoldásról \nA regisztrációhoz kérjük küldjön emailt a petrl@radware.com címre!
URL:https://relnet.hu/rendezveny/radware-skyhawk-cloud-native-protector-webinarium/
LOCATION:Virtuális rendezvény
CATEGORIES:Radware,Webinárium
ATTACH;FMTTYPE=image/jpeg:https://relnet.hu/wp-content/uploads/2022/08/radware_cloud_native_protector-min.jpg
END:VEVENT
END:VCALENDAR