BEGIN:VCALENDAR
VERSION:2.0
PRODID:-//RelNet Technológia Kft. - ECPv5.16.4//NONSGML v1.0//EN
CALSCALE:GREGORIAN
METHOD:PUBLISH
XXXXXXXXXXXXXXXXXXXXXXXXXXXXXXXXXXXXXX
XXXXXXXXXXXXXXXXXXXXXXXXXXXXXXXXX
XXXXXXXXXXXXXXXXXXXXXXXXXXXXXXXXXXXXXXXXXXXXXXXXX
BEGIN:VTIMEZONE
TZID:Europe/Budapest
BEGIN:DAYLIGHT
TZOFFSETFROM:+0100
TZOFFSETTO:+0200
TZNAME:CEST
DTSTART:20200329T010000
END:DAYLIGHT
BEGIN:STANDARD
TZOFFSETFROM:+0200
TZOFFSETTO:+0100
TZNAME:CET
DTSTART:20201025T010000
END:STANDARD
END:VTIMEZONE
BEGIN:VEVENT
DTSTART;TZID=Europe/Budapest:20200917T103000
DTEND;TZID=Europe/Budapest:20200917T120000
DTSTAMP:20260420T015627
CREATED:20200903T100137Z
LAST-MODIFIED:20200915T152342Z
UID:8001-1600338600-1600344000@relnet.hu
SUMMARY:Radware Webinárium: BOT Management Protection
DESCRIPTION:Szeptemberben egy webinárium-sorozat keretében bemutatkozik új gyártónk a Radware.\nA sorozat 3 részből áll\, minden alkalommal más-más témát ismerhetnek meg a résztvevők. Elsőként a DDoS-ról majd a Web Application Firewall-ról\, végül pedig a BOT Management-ről hallhatnak részletesen az érdeklődők. \nMindegyik webinárium angol nyelvű.\nElőadó: Eran Danino (Regional Sales Manager SEE\, Radware) és Lior Zamir (Technical Account Manager\, Radware) lesz. \n2020. szeptember 17-én 10:30 tól a BOT Management védelme lesz a téma. \nA BOT Management webinárium tartalma: \n\nRövid Radware cégbemutató\nA BOT-ok meghódítják az internetet\nBOT detektálási technológiák összehasonlítása\nA felügyelt és a felügyelet nélküli gépi tanulás összehasonlítása\nTelepítési lehetőségek\nAPI biztonság\nÖsszegzés\n\nA sorozat további részei:\n2020. szeptember 8. 10:00-11:00\nDDoS \n2020. szeptember 9. 10:00-11:30 \nWeb Application Firewall \nJelentkezni a weboldalon történt regisztráció/bejelentkezés után lehetséges! \nRegisztráljon most!
URL:https://relnet.hu/rendezveny/radware-webinarium-bot-management/
LOCATION:Virtuális rendezvény
CATEGORIES:Radware,Végfelhasználó,Viszonteladó
ATTACH;FMTTYPE=image/png:https://relnet.hu/wp-content/uploads/2020/09/Bot-Manager.png
END:VEVENT
END:VCALENDAR