BEGIN:VCALENDAR
VERSION:2.0
PRODID:-//RelNet Technológia Kft. - ECPv5.16.4//NONSGML v1.0//EN
CALSCALE:GREGORIAN
METHOD:PUBLISH
XXXXXXXXXXXXXXXXXXXXXXXXXXXXXXXXXXXXXX
XXXXXXXXXXXXXXXXXXXXXXXXXXXXXXXXX
XXXXXXXXXXXXXXXXXXXXXXXXXXXXXXXXXXXXXXXXXXXXXXXXX
BEGIN:VTIMEZONE
TZID:Europe/Budapest
BEGIN:DAYLIGHT
TZOFFSETFROM:+0100
TZOFFSETTO:+0200
TZNAME:CEST
DTSTART:20230326T010000
END:DAYLIGHT
BEGIN:STANDARD
TZOFFSETFROM:+0200
TZOFFSETTO:+0100
TZNAME:CET
DTSTART:20231029T010000
END:STANDARD
END:VTIMEZONE
BEGIN:VEVENT
DTSTART;TZID=Europe/Budapest:20230727T140000
DTEND;TZID=Europe/Budapest:20230727T153000
DTSTAMP:20260419T220408
CREATED:20230720T135943Z
LAST-MODIFIED:20230720T135943Z
UID:30094-1690466400-1690471800@relnet.hu
SUMMARY:Ransomware-védelem\, EDR és kiberbiztonság az Acronisszal
DESCRIPTION:Az Intel és az Acronis bemutatja az év egyik legizgalmasabb virtuális konferenciáját MSP-k számára. \nREGISZTRÁCIÓ\n\n  \nIdőpont: 2023. július 27. (csütörtök) | 14:00-15:30 \n90 percben az Intel és az Acronis szakértői a három legaktuálisabb iparági témával foglalkoznak: zsarolóprogramok\, EDR (végponti észlelés és válaszadás) és kibervédelem. Csatlakozzon virtuálisan és ismerje meg\, hogyan javíthatja és bővítheti üzleti tevékenységét! \nElőadók és témák: \n–  Todd Cramer\, az Intel kiberbiztonsági szakértője a gyártó új végpontvédelmi stratégiájáról fog beszélni. \n– Candid Wüest\, az Acronis Research alelnöke megmutatja\, hogyan tegyünk különbséget jóindulatú és rosszindulatú robotok között. \n– James Erby\, az Acronis mérnöke elmondja\, hogyan lehet egyetlen kattintással hatékony EDR-t hozzáadni az ügyfél végpontjaihoz. Az Acronis Advanced Security + EDR csomagja egyszerűsíti a védekezést és a beüzemelést. \n– EDR esettanulmány a RackOne adatközpont-menedzserétől. \nFoglalja le helyét és regisztráljon az Acronis virtuális konferenciájára még ma! \n 
URL:https://relnet.hu/rendezveny/ransomware-vedelem-edr-es-kiberbiztonsag-az-acronisszal/
LOCATION:Virtuális rendezvény
CATEGORIES:Acronis
ATTACH;FMTTYPE=image/jpeg:https://relnet.hu/wp-content/uploads/2023/07/AcronisRansomwareEdr-min.jpg
END:VEVENT
END:VCALENDAR