BEGIN:VCALENDAR
VERSION:2.0
PRODID:-//RelNet Technológia Kft. - ECPv5.16.4//NONSGML v1.0//EN
CALSCALE:GREGORIAN
METHOD:PUBLISH
XXXXXXXXXXXXXXXXXXXXXXXXXXXXXXXXXXXXXX
XXXXXXXXXXXXXXXXXXXXXXXXXXXXXXXXX
XXXXXXXXXXXXXXXXXXXXXXXXXXXXXXXXXXXXXXXXXXXXXXXXX
BEGIN:VTIMEZONE
TZID:Europe/Budapest
BEGIN:DAYLIGHT
TZOFFSETFROM:+0100
TZOFFSETTO:+0200
TZNAME:CEST
DTSTART:20220327T010000
END:DAYLIGHT
BEGIN:STANDARD
TZOFFSETFROM:+0200
TZOFFSETTO:+0100
TZNAME:CET
DTSTART:20221030T010000
END:STANDARD
END:VTIMEZONE
BEGIN:VEVENT
DTSTART;TZID=Europe/Budapest:20220610T172000
DTEND;TZID=Europe/Budapest:20220610T204000
DTSTAMP:20260423T121812
CREATED:20220527T122149Z
LAST-MODIFIED:20220610T091939Z
UID:22435-1654881600-1654893600@relnet.hu
SUMMARY:RelNet eLearning díjátadó és Jurassic World: Világuralom premiervetítés
DESCRIPTION:Kedves Partnerünk! \nSzeretettel meghívunk Téged és kísérődet 2022. június 10-re\, a RelNet eLearning díjátadó eseményére\, mely során átadjuk a RelNet eLearning program legutóbbi pontgyűjtő versenyének díjait\, majd közösen megnézzük a legújabb Jurassic World filmet. \nÉrkezés\, regisztráció: 17:20-18:10\nProgram kezdete: 18:10\nProgram vége: 20:40 \nHelyszín: Sugár Mozi\nCím: 1048 Budapest\, Örs vezér tere 24.\, 2. emelet\nParkolás: Az első 3 óra ingyenes; ehhez a parkolójegyet a mozi 1. kasszájánál érvényesíteni kell. Minden további megkezdett 30 perc bruttó 150 Ft. \nAz esemény zártkörű\, a résztvevők száma korlátozott és előzetes regisztrációhoz kötött. A jelentkezések visszaigazolásakor az eLearning felhasználók előnyt élveznek. A regisztrációkat minden esetben emailben visszaigazoljuk! \nA regisztrációkor kérjük\, hogy add meg\, hogy egyedül jössz-e vagy kisérővel\, és hogy milyen menüt kérsz/kértek. \nLegyél Te is a RelNet eLearning közösség aktív tagja! \nCsatlakozz a nyertesek ünnepléséhez\, majd izguld végig velünk az őslények és az emberek újabb összecsapását. \nREGISZTRÁLNI BEJELENTKEZÉS UTÁN LEHET A FENTI “JELENTKEZÉS A RENDEZVÉNYRE” GOMBRA KATTINTVA! \n﻿﻿
URL:https://relnet.hu/rendezveny/relnet-elearning-dijatado-es-mozizas/
LOCATION:Sugár Mozi\, Örs vezér tere 24.\, Budapest\, 1148\, Magyarország
CATEGORIES:RelNet,Rendezvény,Végfelhasználó,Viszonteladó
ATTACH;FMTTYPE=image/png:https://relnet.hu/wp-content/uploads/2022/05/eLearning-mozi-min.png
END:VEVENT
END:VCALENDAR