BEGIN:VCALENDAR
VERSION:2.0
PRODID:-//RelNet Technológia Kft. - ECPv5.16.4//NONSGML v1.0//EN
CALSCALE:GREGORIAN
METHOD:PUBLISH
XXXXXXXXXXXXXXXXXXXXXXXXXXXXXXXXXXXXXX
XXXXXXXXXXXXXXXXXXXXXXXXXXXXXXXXX
XXXXXXXXXXXXXXXXXXXXXXXXXXXXXXXXXXXXXXXXXXXXXXXXX
BEGIN:VTIMEZONE
TZID:Europe/Budapest
BEGIN:DAYLIGHT
TZOFFSETFROM:+0100
TZOFFSETTO:+0200
TZNAME:CEST
DTSTART:20180325T010000
END:DAYLIGHT
BEGIN:STANDARD
TZOFFSETFROM:+0200
TZOFFSETTO:+0100
TZNAME:CET
DTSTART:20181028T010000
END:STANDARD
END:VTIMEZONE
BEGIN:VEVENT
DTSTART;TZID=Europe/Budapest:20181210T160000
DTEND;TZID=Europe/Budapest:20181210T200000
DTSTAMP:20260420T020723
CREATED:20181204T154811Z
LAST-MODIFIED:20190304T132856Z
UID:816-1544457600-1544472000@relnet.hu
SUMMARY:RelNet karácsonyi gokartozás és vacsora
DESCRIPTION:MEGHÍVÓ \nKedves Partnerünk! Szeretettel meghívunk a 2018. december 10-én\, a Flashkartnál tartandó RelNet karácsonyi gokartozásra és vacsorára. Próbáljátok ki a FlashKart turbó elektromos gokartjait és amennyiben tetszik az élmény még a versenyre is benevezhettek. Program: 16:00 – Érkezés 16:00 – 17:00 Bemelegítő\, időmérő körök 17:00 – 18:00 Forma 1-es rendszerű futamok (egyszerre 8 gokarttal a pályán) 18:00 – 19:00 Döntő a selejtező futamok során a legjobb 8 eredményt elért versenyző között 18:00 – 20:00 Vacsora 19:45 – Eredményhirdetés A vacsorát a Courtyard by Marriott Budapest City Center biztosítja számunkra. \n  Helyszín: FlashKart\, Europeum bevásárlóközpont -5. szint Cím: 1088 Budapest\, Blaha Lujza tér 5. Bejárat: Az Europeum bevásárlóközpontba a József krt. felől és a Blaha Lujza tér felől is van bejárat\, majd lifttel tudtok a -5 szintre lejönni. Parkolási lehetőség: Autóval a Blaha Lujza téri parkolóban és a Somogyi Béla utcáról nyíló Europeum mélygarázsban is meg lehet állni parkolási díj ellenében. Amit az elektromos gokartokról és a pályáról tudni érdemes: https://www.gokartbudapest.hu/ Regisztráció: https://www.eventbrite.co.uk/e/relnet-karacsonyi-gokartozas-registration-52867765911 Az esemény résztvevőinek száma korlátozott\, a jelentkezések elfogadása a regisztrációk sorrendjében történik.
URL:https://relnet.hu/rendezveny/relnet-karacsonyi-gokartozas-es-vacsora/
LOCATION:FlashKart\, Europeum bevásárlóközpont -5. szint\, Blaha Lujza tér 5.\, Budapest\, 1088
CATEGORIES:Rendezvény,Végfelhasználó,Viszonteladó
ATTACH;FMTTYPE=image/png:https://relnet.hu/wp-content/uploads/2018/12/1-2.png
ORGANIZER;CN="RelNet%20Technol%C3%B3gia%20Kft.":MAILTO:marketing@relnet.hu
END:VEVENT
END:VCALENDAR