BEGIN:VCALENDAR
VERSION:2.0
PRODID:-//RelNet Technológia Kft. - ECPv5.16.4//NONSGML v1.0//EN
CALSCALE:GREGORIAN
METHOD:PUBLISH
XXXXXXXXXXXXXXXXXXXXXXXXXXXXXXXXXXXXXX
XXXXXXXXXXXXXXXXXXXXXXXXXXXXXXXXX
XXXXXXXXXXXXXXXXXXXXXXXXXXXXXXXXXXXXXXXXXXXXXXXXX
BEGIN:VTIMEZONE
TZID:Europe/Budapest
BEGIN:DAYLIGHT
TZOFFSETFROM:+0100
TZOFFSETTO:+0200
TZNAME:CEST
DTSTART:20240331T010000
END:DAYLIGHT
BEGIN:STANDARD
TZOFFSETFROM:+0200
TZOFFSETTO:+0100
TZNAME:CET
DTSTART:20241027T010000
END:STANDARD
END:VTIMEZONE
BEGIN:VEVENT
DTSTART;TZID=Europe/Budapest:20240529T160000
DTEND;TZID=Europe/Budapest:20240529T210000
DTSTAMP:20260420T150620
CREATED:20240410T140103Z
LAST-MODIFIED:20240521T095706Z
UID:33384-1716998400-1717016400@relnet.hu
SUMMARY:RelNet nyárköszöntő találkozó 2024
DESCRIPTION:Szeretettel meghívjuk a RelNet – vacsorával és stand-up comedy műsorral egybekötött – üzleti kapcsolatépítő rendezvényére\, amelyet 2024. május 29-én tartunk meg a Kopaszi gáton! \nAhogy tavaly\, a 2024-es RelNet nyárköszöntő találkozó újra remek alkalom lesz ez arra\, hogy minden résztvevő – köztük a gyártóink\, viszonteladó és végfelhasználó partnereink – megismerkedjenek egymással. \nMinden résztvevőnek lehetőséget biztosítunk arra\, hogy rövid és célratörő találkozókon kapcsolatokat és üzleti lehetőségeket építsen. A vezetőket\, mérnököket\, viszonteladókat\, konzulenseket\, szolgáltatókat és ügyfeleket egyaránt szívesen látjuk a rendezvényünkön. \nVegyen részt Ön is a RelNet nyárköszöntő találkozón! Regisztráljon már most a fenti gombra kattintva! \nMinden résztvevőnek 50 extra pontot írunk jóvá az eLearning programunkban! \nHelyszín: Café Ponyvaregény (1117 Budapest\, Kopaszi gát 5.\, 12. épület\, GPS: É47\,4621285; K19\,0609335) \nIdőpont: 2023. május 29. (szerda) \nTERVEZETT NAPIREND \n16:00-16:30         Érkezés és regisztráció \n16:30-16:50         RelNet köszöntő \n16:50-18:30         Előre egyeztetett idejű és körű üzleti megbeszélés az esemény résztvevői között \n18:30-20:00         Vacsora \n20:00-20:30        Felméri Péter  Stand-up előadása \n20:30-         További kapcsolatépítési lehetőség / kikapcsolódás \nA Nyárköszöntő találkozón az alábbi szakértőkkel személyesen is találkozhat és beszélgethet: \n \nTöltsünk el együtt egy kellemes és hasznos estét május 29-én!
URL:https://relnet.hu/rendezveny/relnet-nyarkoszonto-talalkozo-2024-save-the-date/
LOCATION:Café Ponyvaregény\, Kopaszi gát\, Kopaszi-gát\, 12. épület\, Budapest\, 1117
CATEGORIES:RelNet,Rendezvény,Végfelhasználó,Viszonteladó
ATTACH;FMTTYPE=image/jpeg:https://relnet.hu/wp-content/uploads/2024/04/RelNetNyarkoszonto2024-min.jpg
END:VEVENT
END:VCALENDAR