BEGIN:VCALENDAR
VERSION:2.0
PRODID:-//RelNet Technológia Kft. - ECPv5.16.4//NONSGML v1.0//EN
CALSCALE:GREGORIAN
METHOD:PUBLISH
XXXXXXXXXXXXXXXXXXXXXXXXXXXXXXXXXXXXXX
XXXXXXXXXXXXXXXXXXXXXXXXXXXXXXXXX
XXXXXXXXXXXXXXXXXXXXXXXXXXXXXXXXXXXXXXXXXXXXXXXXX
BEGIN:VTIMEZONE
TZID:Europe/Budapest
BEGIN:DAYLIGHT
TZOFFSETFROM:+0100
TZOFFSETTO:+0200
TZNAME:CEST
DTSTART:20200329T010000
END:DAYLIGHT
BEGIN:STANDARD
TZOFFSETFROM:+0200
TZOFFSETTO:+0100
TZNAME:CET
DTSTART:20201025T010000
END:STANDARD
END:VTIMEZONE
BEGIN:VEVENT
DTSTART;TZID=Europe/Budapest:20200925T160000
DTEND;TZID=Europe/Budapest:20200925T230000
DTSTAMP:20260420T020731
CREATED:20200911T104212Z
LAST-MODIFIED:20200922T112938Z
UID:8129-1601049600-1601074800@relnet.hu
SUMMARY:RelNet nyárzáró kerti parti
DESCRIPTION:MEGHÍVÓ \n Kedves Partnerünk! \nSzeretettel hívunk meg a 2020. szeptember 25-re tervezett\, kötetlenebb formájú – a járványra való tekintettel – kislétszámú nyárzáró kerti partinkra\, a RelNethez. \nA TERVEZETT PROGRAM \n16:00 Érkezés\, regisztráció\n16:10 RelNet köszöntő\n16:15 RelNet hírek\, változások\n16:30 Juniper előadás\n16:50 Radware előadás \n17:10 Kerti parti\, mely során zenével\, grillételekkel\, sörrel\, borral\, koktélokkal\, játékokkal várunk Benneteket! \nJátékok: ping-pong\, csocsó\, darts.\nA különböző játékokban összemérhetitek tudásotokat! \nLesz csocsó és darts verseny\, sőt\, pingpongban kihívhatjátok és legyőzhetitek Márton Zoltánt\, egykori asztaliteniszező versenyzőt. \nA játékokban a legeredményesebbek egy-egy Relay 20000 mAh powerbank-ot kapnak\, a második helyezett egy Juniperes 32GB-os pendrive-ot\, míg harmadik helyezett egy napszemüveget kap a Juniper Networks ajándékaként. \nAz eseményre laza öltözet javasolt. \nHelyszín: 1047 Budapest\, Váci út 71.\n(Bejárat a Perényi Zsigmond utca felől.)\n \nVÁRUNK BENNETEKET!\n \nA RelNet csapata
URL:https://relnet.hu/rendezveny/relnet-nyarzaro-kerti-parti/
LOCATION:RelNet konferencia terem\, Váci út 71.\, Budapest\, 1047\, Magyarország
CATEGORIES:Végfelhasználó,Viszonteladó
ATTACH;FMTTYPE=image/png:https://relnet.hu/wp-content/uploads/2020/09/1-1.png
GEO:47.572774139773;19.081058942328
X-APPLE-STRUCTURED-LOCATION;VALUE=URI;X-ADDRESS=RelNet konferencia terem Váci út 71. Budapest 1047 Magyarország;X-APPLE-RADIUS=500;X-TITLE=Váci út 71.:geo:19.081058942328,47.572774139773
END:VEVENT
END:VCALENDAR