BEGIN:VCALENDAR
VERSION:2.0
PRODID:-//RelNet Technológia Kft. - ECPv5.16.4//NONSGML v1.0//EN
CALSCALE:GREGORIAN
METHOD:PUBLISH
XXXXXXXXXXXXXXXXXXXXXXXXXXXXXXXXXXXXXX
XXXXXXXXXXXXXXXXXXXXXXXXXXXXXXXXX
XXXXXXXXXXXXXXXXXXXXXXXXXXXXXXXXXXXXXXXXXXXXXXXXX
BEGIN:VTIMEZONE
TZID:Europe/Budapest
BEGIN:DAYLIGHT
TZOFFSETFROM:+0100
TZOFFSETTO:+0200
TZNAME:CEST
DTSTART:20220327T010000
END:DAYLIGHT
BEGIN:STANDARD
TZOFFSETFROM:+0200
TZOFFSETTO:+0100
TZNAME:CET
DTSTART:20221030T010000
END:STANDARD
END:VTIMEZONE
BEGIN:VEVENT
DTSTART;TZID=Europe/Budapest:20221122T154500
DTEND;TZID=Europe/Budapest:20221122T180000
DTSTAMP:20260422T180058
CREATED:20221104T105935Z
LAST-MODIFIED:20221125T074315Z
UID:25673-1669131900-1669140000@relnet.hu
SUMMARY:RelNetIQ sorozat: 1. rész – IT/OT biztonság
DESCRIPTION:A RelNet Kft.\, valamint a BME Távközlési és Médiainformatikai Tanszékének közös szervezésében hibrid előadássorozatot indítunk\, amelyben egyetemi tanárok tartanak előadásokat a hálózatmenedzsment és -biztonság legaktuálisabb témáiban. A hat részesre tervezett sorozat személyesen az oktatóteremben\, vagy online formában is követhető. \nNe hagyja ki a lehetőséget\, hogy újra egyetemi környezetben és hangulatban\, tudományos színvonalú előadásokon értesüljön az informatikai szakma legújabb irányairól! \nA RelNetIQ 1. részének témája\nA nemzetközi szinten is kiemelkedő akadémiai teljesítményt nyújtó Távközlési és Médiainformatikai Tanszék professzora\, dr. Varga Pál tanszékvezető előadásának fő témája az IT/OT konvergencia lesz. \nHogyan követhetjük le a biztonságtechnikai paradigmaváltást az ipari kiberfizikai rendszerekben? \nA kiberbiztonságról mindenkinek kicsit más problémák jutnak eszébe. Az IT területén régóta fejlesztik a fegyvereket és az ezek ellen védő pajzsokat. Ezzel szemben az ipari infrastruktúrák\, folyamatvezérlő rendszerek\, vagyis az OT biztonságát sokáig hagyományos\, téglából készült fallal oldották meg: magába az épületbe sem lehetett bejutni illetéktelen személyeknek\, nemhogy gépi adatforgalomnak. Az informatikai rendszerek minden értelemben el voltak különítve a vezérlőrendszerektől. Az OT távoli monitorozási lehetőségeivel\, majd a kiberfizikai rendszerek (CPS) elterjedésével ez a fizikai biztonság fellazult. \nIdőpont: 2022. november 22. (kedd)\, 15:45-18:00 \n  \nÓrarend: \n15:45-16:00 Érkezés \n16:00-17:00 Az előadás 1. része \n17:00-17:15 Kávészünet \n17:15-18:00 Az előadás 2. része \n  \nElőadó: Dr. Varga Pál\, a BME TMIT tanszékvezetője \nA helyszín az első alkalommal a BME Informatikai (I) épület IB210-es termében lesz. (Magyar tudósok körútja 2.) \nAz előadás streaming formában online is követhető. \n  \nA további előadások menetrendje\nAz előadásokat jellemzően minden hónap harmadik keddjére szervezzük: \n\n2. rész: 2023. január 24. / 16:00-18:00: 5G és WiFi rendszerek és üzemeltetésük (Dr. Soós Gábor – Magyar Telekom / BME)\n3. rész: 2023. február 21. / 16:00-18:00: Navigáció kapcsolati hálókban: Miért járunk gyakran kerülőúton? (Dr. Gulyás András – BME)\n4. rész: 2023. március 21. / 16:00-18:00: A digitális autonómia kérdései a modern technológiák tükrében (Dr. Krasznay Csaba – NKE)\n5. rész: 2023. április 25. / 16:00-18:00: Hálózatmonitorozás (Dr. Orosz Péter – BME)\n6. rész: 2023. május 23. / 16:00-18:00: Felhő alapú szolgáltatások (Dr. Simon Csaba – BME)\n\nMentse el naptárába az időpontokat már most! \nMinden részvételért 25 extra pontot írunk jóvá az eLearning programunkban!
URL:https://relnet.hu/rendezveny/relnetiq-sorozat-1-resz-it-ot-biztonsag/
LOCATION:BME I épület\, Magyar tudósok körútja 2.\, Budapest\, 1117\, Magyarország
CATEGORIES:Végfelhasználó,Viszonteladó
ATTACH;FMTTYPE=image/png:https://relnet.hu/wp-content/uploads/2022/11/IT_OT_biztonsag-min.png
END:VEVENT
END:VCALENDAR