BEGIN:VCALENDAR
VERSION:2.0
PRODID:-//RelNet Technológia Kft. - ECPv5.16.4//NONSGML v1.0//EN
CALSCALE:GREGORIAN
METHOD:PUBLISH
XXXXXXXXXXXXXXXXXXXXXXXXXXXXXXXXXXXXXX
XXXXXXXXXXXXXXXXXXXXXXXXXXXXXXXXX
XXXXXXXXXXXXXXXXXXXXXXXXXXXXXXXXXXXXXXXXXXXXXXXXX
BEGIN:VTIMEZONE
TZID:Europe/Budapest
BEGIN:DAYLIGHT
TZOFFSETFROM:+0100
TZOFFSETTO:+0200
TZNAME:CEST
DTSTART:20230326T010000
END:DAYLIGHT
BEGIN:STANDARD
TZOFFSETFROM:+0200
TZOFFSETTO:+0100
TZNAME:CET
DTSTART:20231029T010000
END:STANDARD
END:VTIMEZONE
BEGIN:VEVENT
DTSTART;TZID=Europe/Budapest:20230523T141500
DTEND;TZID=Europe/Budapest:20230523T170000
DTSTAMP:20260419T232854
CREATED:20230202T142537Z
LAST-MODIFIED:20230515T093630Z
UID:26266-1684851300-1684861200@relnet.hu
SUMMARY:RelNetIQ sorozat: 5. rész – Felhő alapú szolgáltatások
DESCRIPTION:A RelNet Kft.\, valamint a BME Távközlési és Médiainformatikai Tanszékének közös szervezésű hibrid előadássorozatban egyetemi tanárok adnak elő a hálózatmenedzsment és -biztonság legaktuálisabb témáiban. Az előadások személyesen az oktatóteremben\, vagy online formában is követhetők. \nNe hagyja ki a lehetőséget\, hogy a nemzetközi szinten is kiemelkedő akadémiai teljesítményt nyújtó BME Távközlési és Médiainformatikai Tanszék egyetemi környezetében tudományos színvonalú előadásokon értesüljön az informatikai szakma legújabb irányairól! \nA RelNetIQ 5. részének témája\nDr. Simon Csaba (BME) előadásának címe: Felhő alapú szolgáltatások. \nA felhő alapú rendszerek a modern hálózati szolgáltatások infrastruktúrájának megkerülhetetlen részeivé váltak. Az előadás a felhő architektúrák felépítésének bemutatásával alapozza meg a szolgáltatási módok (IaaS\, PaaS\, SaaS\, FaaS) áttekintését\, majd rátér a szoftver alapú hálózatokra és a hálózatvirtualizációs megoldásokra. Mindezek után a felhőarchitektúrák menedzselése\, erőforrásainak optimalizálása kerül terítékre\, majd a biztonsági kérdések\, valamint esettanulmányok bemutatása teszik kerekké az előadást. \nIdőpont: 2023. május 23. (kedd)\, 14:15-17:00 \nÓrarend: \n14:15-14:30 Érkezés\n14:30-15:30 A BME előadás 1. része\n15:30-15:45 Kávészünet\n15:45-16:30 A BME előadás 2. része\n16:30-16:45 RelNet összegzés\n16:45-17:00 Kérdések\, válaszok \nHelyszín: RelNet oktatóterem (1047 Budapest\, Váci út 71.) \nAz előadás streaming formában online is követhető. \nMinden személyes\, oktatótermi jelenlétért 25 extra pontot írunk jóvá az eLearning programunkban! \nUtolsó előadásunk: \nRelNetIQ sorozat: 6. rész – A digitális autonómia kérdései a modern technológiák tükrében \nA korábbi előadások a RelNet eLearningben visszanézhetők!\n\n1. rész: Az IT/OT konvergencia kiberbiztonsága (Dr. Varga Pál – BME)\n2. rész: WiFi és 5G rendszerek és üzemeltetésük  (Dr. Soós Gábor – BME)\n3. rész: Navigáció kapcsolati hálókban (Dr. Gulyás András – BME)\n4. rész: Hálózatmonitorozás (Dr. Orosz Péter – BME)\n\n 
URL:https://relnet.hu/rendezveny/relnetiq-sorozat-5-resz-felho-alapu-szolgaltatasok/
LOCATION:RelNet konferencia terem\, Váci út 71.\, Budapest\, 1047\, Magyarország
CATEGORIES:RelNetIQ,Végfelhasználó,Viszonteladó
ATTACH;FMTTYPE=image/png:https://relnet.hu/wp-content/uploads/2023/02/RelNetIq_5Resz_Simon.png
GEO:47.572774139773;19.081058942328
X-APPLE-STRUCTURED-LOCATION;VALUE=URI;X-ADDRESS=RelNet konferencia terem Váci út 71. Budapest 1047 Magyarország;X-APPLE-RADIUS=500;X-TITLE=Váci út 71.:geo:19.081058942328,47.572774139773
END:VEVENT
END:VCALENDAR