BEGIN:VCALENDAR
VERSION:2.0
PRODID:-//RelNet Technológia Kft. - ECPv5.16.4//NONSGML v1.0//EN
CALSCALE:GREGORIAN
METHOD:PUBLISH
XXXXXXXXXXXXXXXXXXXXXXXXXXXXXXXXXXXXXX
XXXXXXXXXXXXXXXXXXXXXXXXXXXXXXXXX
XXXXXXXXXXXXXXXXXXXXXXXXXXXXXXXXXXXXXXXXXXXXXXXXX
BEGIN:VTIMEZONE
TZID:Europe/Budapest
BEGIN:DAYLIGHT
TZOFFSETFROM:+0100
TZOFFSETTO:+0200
TZNAME:CEST
DTSTART:20230326T010000
END:DAYLIGHT
BEGIN:STANDARD
TZOFFSETFROM:+0200
TZOFFSETTO:+0100
TZNAME:CET
DTSTART:20231029T010000
END:STANDARD
END:VTIMEZONE
BEGIN:VEVENT
DTSTART;TZID=Europe/Budapest:20230620T141500
DTEND;TZID=Europe/Budapest:20230620T170000
DTSTAMP:20260419T220507
CREATED:20221125T080703Z
LAST-MODIFIED:20230515T093750Z
UID:26262-1687270500-1687280400@relnet.hu
SUMMARY:RelNetIQ sorozat: 6. rész – A digitális autonómia kérdései a modern technológiák tükrében
DESCRIPTION:A RelNet Kft.\, valamint a BME Távközlési és Médiainformatikai Tanszékének közös szervezésű hibrid előadássorozatban egyetemi tanárok adnak elő a hálózatmenedzsment és -biztonság legaktuálisabb témáiban. Az előadások személyesen az oktatóteremben\, vagy online formában is követhetők. \nNe hagyja ki a lehetőséget\, hogy a nemzetközi szinten is kiemelkedő akadémiai teljesítményt nyújtó BME Távközlési és Médiainformatikai Tanszék egyetemi környezetében tudományos színvonalú előadásokon értesüljön az informatikai szakma legújabb irányairól! \nA RelNetIQ 6. részének témája\nDr. Krasznay Csaba\, (Nemzeti Közszolgálati Egyetem) előadásának címe: A digitális autonómia kérdései a modern technológiák tükrében \nAutonómnak lenni annyit jelent\, hogy kulcsfontosságú stratégiai céljainkat külső felek befolyásától és függőségeitől mentesen tudjuk elérni. Az Európai Unió digitális autonómiájának elérése tehát attól függ\, mennyire lehet megteremteni azt a környezetet\, melyben a szükséges és elégséges mértékben ki lehet zárni a globális versenytársaktól\, elsősorban az Amerikai Egyesült Államokból és Kínából származó olyan technológiákat\, mint az MI\, az 5G\, a chipek\, a felhő és még sorolhatnánk. A technológiai függésnek azonban számos dimenziója van\, mellyel számolni kell a digitális szuverenitás kivívásának érdekében\, hiszen a műszaki kérdések mellett gazdasági\, jogi\, politikai vagy éppen katonai befolyásolás is akadálya lehet az önálló és versenyképes európai digitális piac megteremtésének\, a két nagyhatalomnak pedig nem érdeke támogatni az EU digitális autonómiatörekvéseit. Az előadás áttekinti az egyes technológiákhoz kapcsolódó stratégiai autonómia kérdéseket\, mindezt a kiberbiztonság sajátos nézőpontjából vizsgálva. \nIdőpont: 2023. június 20. (kedd)\, 14:15-17:00 \nÓrarend: \n14:15-14:30 Érkezés\n14:30-15:30 A BME előadás 1. része\n15:30-15:45 Kávészünet\n15:45-16:30 A BME előadás 2. része\n16:30-16:45 RelNet összegzés\n16:45-17:00 Kérdések\, válaszok \nHelyszín: RelNet oktatóterem (1047 Budapest\, Váci út 71.) \nAz előadás streaming formában online is követhető. \nMentse el naptárába az időpontokat már most! \nMinden személyes\, oktatótermi jelenlétért 25 extra pontot írunk jóvá az eLearning programunkban! \nA korábbi előadások a RelNet eLearningben visszanézhetők!\n\n1. rész: Az IT/OT konvergencia kiberbiztonsága (Dr. Varga Pál – BME)\n2. rész: WiFi és 5G rendszerek és üzemeltetésük  (Dr. Soós Gábor – BME)\n3. rész: Navigáció kapcsolati hálókban (Dr. Gulyás András – BME)\n4. rész: Hálózatmonitorozás (Dr. Orosz Péter – BME)\n5. rész: Felhő alapú szolgáltatások (Dr. Simon Csaba – BME)\n\n  \n 
URL:https://relnet.hu/rendezveny/relnetiq-sorozat-6-resz-a-digitalis-autonomia-kerdesei-a-modern-technologiak-tukreben/
LOCATION:RelNet konferencia terem\, Váci út 71.\, Budapest\, 1047\, Magyarország
CATEGORIES:RelNetIQ,Végfelhasználó,Viszonteladó
ATTACH;FMTTYPE=image/png:https://relnet.hu/wp-content/uploads/2022/11/RelNetIQ_6_Krasznay_min.png
GEO:47.572774139773;19.081058942328
X-APPLE-STRUCTURED-LOCATION;VALUE=URI;X-ADDRESS=RelNet konferencia terem Váci út 71. Budapest 1047 Magyarország;X-APPLE-RADIUS=500;X-TITLE=Váci út 71.:geo:19.081058942328,47.572774139773
END:VEVENT
END:VCALENDAR